BEGIN:VCALENDAR
VERSION:2.0
PRODID:-//ChamberMaster//Event Calendar 2.0//EN
METHOD:PUBLISH
X-PUBLISHED-TTL:P3D
REFRESH-INTERVAL:P3D
CALSCALE:GREGORIAN
BEGIN:VEVENT
DTSTART:20190720T180000Z
DTEND:20190720T210000Z
X-MICROSOFT-CDO-ALLDAYEVENT:FALSE
SUMMARY:Quad Cities Craft Beer Fest
DESCRIPTION:We are back for the 2019 Quad Cities Craft Beer Fest! \n\n\n\nThe Quad Cities riverfront region has a long history of brewing beer and the craft-beer industry is continuing to grow. This event showcases various micro-breweries throughout the bi-state region that offer unique\, drinkable beers across the spectrum.\n\nFor just $20 craft beer fans can sample beverages from 20+ breweries in one afternoon. Raise a glass and get ready to meet\, mix and mingle with hundreds of beer lovers and the breweries that make this region special. \n\n\n\nWe look forward to seeing all of you at this year's Craft Beer Fest on The Plaza at Bass Street Landing! \n\n\n\nParticipating Breweries:\n\n  7 Hills\n\n  Bent River Brewing\n\n  Front Street Brewery\n\n  Galena Brewing \n\n  Generations Brewing\n\n  Green Tree Brewery\n\n  Iron Spike\n\n  Lena Brewing \n\n  Millstream Brewing \n\n  Rebellion Brew Haus\n\n\n\nClick here to buy tickets!\n\n\n\nSpecial thank you to our sponsors for making this event possible!\n\nPresenting sponsor: Zimmerman Honda\n\nMedia sponsors: Townsquare Media | Mediacom
X-ALT-DESC;FMTTYPE=text/html:<span style="font-size:16px\;"><span style="font-family:arial\;"><span style="background-image:initial\;background-position:initial\;background-size:initial\;background-repeat:initial\;background-attachment:initial\;background-origin:initial\;background-clip:initial\;"><span style="color:#1d2129\;">We are back for the 2019 Quad Cities Craft Beer Fest! </span></span><br />\n<br />\n<span style="color:#1D2129\;"><span style="background-image:initial\;background-position:initial\;background-size:initial\;background-repeat:initial\;background-attachment:initial\;background-origin:initial\;background-clip:initial\;">The Quad Cities riverfront region has a long history of brewing beer and the craft-beer industry is continuing to grow. This event showcases various micro-breweries throughout the bi-state region that offer unique\, drinkable beers across the spectrum.</span></span><br />\n<span style="background-image:initial\;background-position:initial\;background-size:initial\;background-repeat:initial\;background-attachment:initial\;background-origin:initial\;background-clip:initial\;"><span style="color:#1d2129\;">For just $20 craft beer fans can sample beverages from 20+ breweries in one afternoon. Raise a glass and get ready to meet\, mix and mingle with hundreds of beer lovers and the breweries that make this region special. </span></span><br />\n<br />\n<span style="color:#1D2129\;"><span style="background-image:initial\;background-position:initial\;background-size:initial\;background-repeat:initial\;background-attachment:initial\;background-origin:initial\;background-clip:initial\;">We look forward to seeing all of you at this year&rsquo\;s Craft Beer Fest on The Plaza at Bass Street Landing! </span></span><br />\n<br />\n<strong><span style="background-image:initial\;background-position:initial\;background-size:initial\;background-repeat:initial\;background-attachment:initial\;background-origin:initial\;background-clip:initial\;"><span style="color:#1d2129\;">Participating Breweries:</span></span></strong><br />\n<span style="background-image:initial\;background-position:initial\;background-size:initial\;background-repeat:initial\;background-attachment:initial\;background-origin:initial\;background-clip:initial\;"><span style="color:#1d2129\;">&bull\; 7 Hills</span></span><br />\n<span style="color:#1D2129\;"><span style="background-image:initial\;background-position:initial\;background-size:initial\;background-repeat:initial\;background-attachment:initial\;background-origin:initial\;background-clip:initial\;">&bull\; Bent River Brewing</span></span><br />\n<span style="background-image:initial\;background-position:initial\;background-size:initial\;background-repeat:initial\;background-attachment:initial\;background-origin:initial\;background-clip:initial\;"><span style="color:#1d2129\;">&bull\; Front Street Brewery</span></span><br />\n<span style="color:#1D2129\;"><span style="background-image:initial\;background-position:initial\;background-size:initial\;background-repeat:initial\;background-attachment:initial\;background-origin:initial\;background-clip:initial\;">&bull\; Galena Brewing </span></span><br />\n<span style="background-image:initial\;background-position:initial\;background-size:initial\;background-repeat:initial\;background-attachment:initial\;background-origin:initial\;background-clip:initial\;"><span style="color:#1d2129\;">&bull\; Generations Brewing</span></span><br />\n<span style="color:#1D2129\;"><span style="background-image:initial\;background-position:initial\;background-size:initial\;background-repeat:initial\;background-attachment:initial\;background-origin:initial\;background-clip:initial\;">&bull\; Green Tree Brewery</span></span><br />\n<span style="background-image:initial\;background-position:initial\;background-size:initial\;background-repeat:initial\;background-attachment:initial\;background-origin:initial\;background-clip:initial\;"><span style="color:#1d2129\;">&bull\; Iron Spike</span></span><br />\n<span style="color:#1D2129\;"><span style="background-image:initial\;background-position:initial\;background-size:initial\;background-repeat:initial\;background-attachment:initial\;background-origin:initial\;background-clip:initial\;">&bull\; Lena Brewing </span><br />\n<span style="background-image:initial\;background-position:initial\;background-size:initial\;background-repeat:initial\;background-attachment:initial\;background-origin:initial\;background-clip:initial\;">&bull\; Millstream Brewing </span><br />\n<span style="background-image:initial\;background-position:initial\;background-size:initial\;background-repeat:initial\;background-attachment:initial\;background-origin:initial\;background-clip:initial\;">&bull\; Rebellion Brew Haus</span></span></span><br />\n<br />\n<span style="font-size:20px\;"><strong><a href="http://bit.ly/CraftBeerFestQC19">Click here</a> to buy tickets!</strong></span></span><br />\n<br />\n<span style="font-size:18px\;"><span style="font-family:arial\;"><span style="font-size:16px\;">Special thank you to our sponsors for making this event possible!<br />\nPresenting sponsor:</span><strong> Zimmerman Honda</strong><br />\n<span style="font-size:16px\;">Media sponsors:</span><strong> Townsquare Media | Mediacom</strong></span></span>
LOCATION:Bass Street Plaza | 17th Street\, Moline
UID:e.2843.15447
SEQUENCE:3
DTSTAMP:20260422T113508Z
URL:https://member.quadcitieschamber.com/events/details/quad-cities-craft-beer-fest-15447
END:VEVENT

END:VCALENDAR
