BEGIN:VCALENDAR
VERSION:2.0
PRODID:-//ChamberMaster//Event Calendar 2.0//EN
METHOD:PUBLISH
X-PUBLISHED-TTL:P3D
REFRESH-INTERVAL:P3D
CALSCALE:GREGORIAN
BEGIN:VEVENT
DTSTART:20120905T220000Z
DTEND:20120905T223000Z
X-MICROSOFT-CDO-ALLDAYEVENT:FALSE
SUMMARY:Quad Cities Family Entertainment Center Ribbon Cutting
DESCRIPTION:Please help celebrate the opening of new member\, Quad Cities Family Entertainment Center\, with a ribbon cutting tonight (9/5/12) at 5:00pm.  Following is a Friends & Family VIP night\, beginning at 6pm\, with complimentary food\, fun and entertainment.
X-ALT-DESC;FMTTYPE=text/html:<P style="MARGIN: 0in 0in 0pt" class=MsoNormal><FONT face=Calibri>Please help celebrate the opening of new member\, Quad Cities Family Entertainment Center\, with a ribbon cutting tonight (9/5/12) at 5:00pm.<SPAN style="mso-spacerun: yes">&nbsp\; </SPAN>Following is a Friends &amp\; Family VIP night\, beginning at 6pm\, with complimentary food\, fun and entertainment.</FONT></P><DIV style="FONT-FAMILY: Arial">&nbsp\;</DIV>
LOCATION:QC Family Entertainment Center4401 44th Avenue Moline\, IL 61265
UID:e.2843.430
SEQUENCE:3
DTSTAMP:20260421T185006Z
URL:https://member.quadcitieschamber.com/events/details/quad-cities-family-entertainment-center-ribbon-cutting-09-05-2012-430
END:VEVENT

END:VCALENDAR
