BEGIN:VCALENDAR
VERSION:2.0
PRODID:-//ChamberMaster//Event Calendar 2.0//EN
METHOD:PUBLISH
X-PUBLISHED-TTL:P3D
REFRESH-INTERVAL:P3D
CALSCALE:GREGORIAN
BEGIN:VEVENT
DTSTART:20090828T050000Z
DTEND:20090828T050000Z
X-MICROSOFT-CDO-ALLDAYEVENT:FALSE
SUMMARY:Quad Cities First Informational Meeting
DESCRIPTION:Quad Cities First Informational Meeting
X-ALT-DESC;FMTTYPE=text/html:Quad Cities First Informational Meeting
LOCATION:
UID:e.2843.3765
SEQUENCE:3
DTSTAMP:20260424T044605Z
URL:https://member.quadcitieschamber.com/events/details/quad-cities-first-informational-meeting-08-28-2009-3765
END:VEVENT

END:VCALENDAR
