BEGIN:VCALENDAR
VERSION:2.0
PRODID:-//ChamberMaster//Event Calendar 2.0//EN
METHOD:PUBLISH
X-PUBLISHED-TTL:P3D
REFRESH-INTERVAL:P3D
CALSCALE:GREGORIAN
BEGIN:VEVENT
DTSTART:20201022T210000Z
DTEND:20201022T220000Z
X-MICROSOFT-CDO-ALLDAYEVENT:FALSE
SUMMARY:QUAD CITIES GO RED FOR WOMEN OCTOBER 22\, 2020
DESCRIPTION:On 10.20.22 WOMEN CHANGE HISTORY...AGAIN\n\n\n\n4:00 p.m.   5:00 p.m.: 1 hour of inspiration\, education\, and empowerment!\n\nEmcee: Angie Sharp\, WQAD\n\nFeatured Survivor: Golda Black\n\nKeynote: Dr. Kelly Airey\, Cardiovascular Medicine\, P.C.\n\nSpecial Guest: Kathryn Clark Childers. A pioneer and a trailblazer Kathryn was one of the first five women hired as a special agent in the US Secret Service and now coaches all ages to grasp her personal mantra - do it scared! - and make it your own!
X-ALT-DESC;FMTTYPE=text/html:<div style="text-align:center">On 10.20.22 WOMEN CHANGE HISTORY...AGAIN<br />\n<br />\n4:00 p.m. &ndash\; 5:00 p.m.: 1 hour of inspiration\, education\, and empowerment!<br />\nEmcee: Angie Sharp\, WQAD<br />\nFeatured Survivor: Golda Black<br />\nKeynote: Dr. Kelly Airey\, Cardiovascular Medicine\, P.C.<br />\nSpecial Guest: Kathryn Clark Childers. A pioneer and a trailblazer Kathryn was one of the first five women hired as a special agent in the US Secret Service and now coaches all ages to grasp her personal mantra - do it scared! - and make it your own!</div>\n
LOCATION:This is an online event
UID:e.2843.18194
SEQUENCE:3
DTSTAMP:20260421T111531Z
URL:https://member.quadcitieschamber.com/events/details/quad-cities-go-red-for-women-october-22-2020-18194
END:VEVENT

END:VCALENDAR
