BEGIN:VCALENDAR
VERSION:2.0
PRODID:-//ChamberMaster//Event Calendar 2.0//EN
METHOD:PUBLISH
X-PUBLISHED-TTL:P3D
REFRESH-INTERVAL:P3D
CALSCALE:GREGORIAN
BEGIN:VEVENT
DTSTART:20140204T180000Z
DTEND:20140205T180000Z
X-MICROSOFT-CDO-ALLDAYEVENT:FALSE
SUMMARY:Quad Cities Legislative Days in Des Moines
DESCRIPTION:
X-ALT-DESC;FMTTYPE=text/html:<P align=center>&nbsp\;</P>
LOCATION:Des Moines
UID:e.2843.715
SEQUENCE:3
DTSTAMP:20260422T044841Z
URL:https://member.quadcitieschamber.com/events/details/quad-cities-legislative-days-in-des-moines-02-04-2014-715
END:VEVENT

END:VCALENDAR
