BEGIN:VCALENDAR
VERSION:2.0
PRODID:-//ChamberMaster//Event Calendar 2.0//EN
METHOD:PUBLISH
X-PUBLISHED-TTL:P3D
REFRESH-INTERVAL:P3D
CALSCALE:GREGORIAN
BEGIN:VEVENT
DTSTART:20140408T170000Z
DTEND:20140409T170000Z
X-MICROSOFT-CDO-ALLDAYEVENT:FALSE
SUMMARY:Quad Cities Legislative Days in Springfield
DESCRIPTION:
X-ALT-DESC;FMTTYPE=text/html:<P align=center>&nbsp\;</P><DIV>&nbsp\;</DIV>
LOCATION:Springfield
UID:e.2843.716
SEQUENCE:3
DTSTAMP:20260422T080436Z
URL:https://member.quadcitieschamber.com/events/details/quad-cities-legislative-days-in-springfield-04-08-2014-716
END:VEVENT

END:VCALENDAR
