BEGIN:VCALENDAR
VERSION:2.0
PRODID:-//ChamberMaster//Event Calendar 2.0//EN
METHOD:PUBLISH
X-PUBLISHED-TTL:P3D
REFRESH-INTERVAL:P3D
CALSCALE:GREGORIAN
BEGIN:VEVENT
DTSTART:20200112T000000Z
DTEND:20200112T030000Z
X-MICROSOFT-CDO-ALLDAYEVENT:FALSE
SUMMARY:Quad Cities No Foot Too Small Suite Social
DESCRIPTION:Please join us for our first No Foot Too Small (NFTS) Suite Social in the Quad Cities! This event will be held on Saturday\, January 11th\, 2020 at the Hotel Blackhawk\, Autograph Collection in Davenport\, IA! The event will feature a cocktail hour\, plated dinner\, and live music! You will hear from Dr. Lyndsey and Kyle Day\, Jess and Jenny Buntmeyer\, Angela Kendall of Genesis Health Services Foundation and Robin Boudreau\, Founder of NFTS.\n\n \n\nWe welcome all families experiencing pregnancy and infant loss - we are here to celebrate your angels! We welcome the support of like-minded organizations\, businesses\, and individuals that believe in the same sense of community and our mission to build birthing + bereavement suites. We welcome all of those who are ready to LEAN IN and to connect with NFTS in a philanthropic way that can generate big things!\n\n \n\nNFTS SUITE SOCIAL AGENDA: \n\nDoors Open - 6pm\n\nCocktail Hour - 6-7pm\n\nDinner Served   7pm\n\nFeature Presentations \n\n \n\nSEATING IS LIMITED. PURCHASE YOUR TICKETS TODAY!\n\n$100 per person\n\n$1000 table of 10\n\n \n\nREGISTER ONLINE: \n\nhttps://www.nofoottoosmall.org/events/upcoming_events.html/event-form/registration-form/39320/tickets\n\n \n\n*Tickets must be purchased in advance. Physical tickets will not be shipped. Please enter the names of attendees to your order. These will be confirmed at check-in.\n\n \n\nCONTACT INFO: \n\nRobin Boudreau\n\nrobin@nofoottoosmall.org
X-ALT-DESC;FMTTYPE=text/html:<span style="font-family:arial\,sans-serif"><span style="font-size:11.0pt">Please join us for our first&nbsp\;</span></span><a href="https://business.facebook.com/thereisnofoottoosmall/?__tn__=K-R&amp\;eid=ARAyWBziDUmZXpo8Mfn9q1rznrZNsar1mXzqAhr_hMNJgwG8p2M4kFsLd2ZJNEb10a7IIn45RcR8YIf2&amp\;fref=mentions&amp\;__xts__%5B0%5D=68.ARBWB_v6eycXJAVjof5oiWqDXBJxSA-B5xk4sBqog2mbSoigfcvP3Uef5JbrZIfAZ_JeRMNcs6Eh8V6t1hC6RGnY3RtNF8SYqx0JUpuzXc03ZWpPfYsiT03j5MV-Y92yhX2LW_8kF0zSLSxcf0hEA_E-puOu_0rUiIHS2kHcYP6tcB1RhNpnhqjFI8NssfG2H3NCXZfUkPny1t_kkAz97SJgOuqIid8HJ65kH_PLjJIUWNg9nqQ4bPcjkl-L0BEWK9_vnMA7jJOyQtBHX8l4t3m9abV2JQP7tHo3wzDVg_ikEL9vCA8wdo_GVdnnsRXP9WHV7xNz0l4Rssl2q_uq_Q8FYw"><span style="color:windowtext"><span style="font-family:arial\,sans-serif"><span style="font-size:11.0pt">No Foot Too Small</span></span></span></a><span style="font-family:arial\,sans-serif"><span style="font-size:11.0pt">&nbsp\;(NFTS) Suite Social in the Quad Cities! This event will be held on Saturday\, January 11th\, 2020 at the&nbsp\;</span></span><a href="https://business.facebook.com/HotelBlackhawk/?__tn__=K-R&amp\;eid=ARB_dy70_dyiozLpkzKo1vIeZbYICDhyUJLfJ_wlKFh8HtF-gjFaBhj6ZiCndX4StD6RnfVrML6tXIi2&amp\;fref=mentions&amp\;__xts__%5B0%5D=68.ARBWB_v6eycXJAVjof5oiWqDXBJxSA-B5xk4sBqog2mbSoigfcvP3Uef5JbrZIfAZ_JeRMNcs6Eh8V6t1hC6RGnY3RtNF8SYqx0JUpuzXc03ZWpPfYsiT03j5MV-Y92yhX2LW_8kF0zSLSxcf0hEA_E-puOu_0rUiIHS2kHcYP6tcB1RhNpnhqjFI8NssfG2H3NCXZfUkPny1t_kkAz97SJgOuqIid8HJ65kH_PLjJIUWNg9nqQ4bPcjkl-L0BEWK9_vnMA7jJOyQtBHX8l4t3m9abV2JQP7tHo3wzDVg_ikEL9vCA8wdo_GVdnnsRXP9WHV7xNz0l4Rssl2q_uq_Q8FYw"><span style="color:windowtext"><span style="font-family:arial\,sans-serif"><span style="font-size:11.0pt">Hotel Blackhawk\, Autograph Collection</span></span></span></a><span style="font-family:arial\,sans-serif"><span style="font-size:11.0pt">&nbsp\;in Davenport\, IA! The event will feature a cocktail hour\, plated dinner\, and live music! You will hear from Dr. Lyndsey and Kyle Day\, Jess and Jenny Buntmeyer\, Angela Kendall of&nbsp\;</span></span><a href="https://business.facebook.com/ghsfoundation/?__tn__=K-R&amp\;eid=ARAQMsa6QoZo9AO7APrFC8H1uuMy6mBKbLDThVISwCeEF4nHOJYl04mT685WN6f55l0cd7zrXkUJQKjd&amp\;fref=mentions&amp\;__xts__%5B0%5D=68.ARBWB_v6eycXJAVjof5oiWqDXBJxSA-B5xk4sBqog2mbSoigfcvP3Uef5JbrZIfAZ_JeRMNcs6Eh8V6t1hC6RGnY3RtNF8SYqx0JUpuzXc03ZWpPfYsiT03j5MV-Y92yhX2LW_8kF0zSLSxcf0hEA_E-puOu_0rUiIHS2kHcYP6tcB1RhNpnhqjFI8NssfG2H3NCXZfUkPny1t_kkAz97SJgOuqIid8HJ65kH_PLjJIUWNg9nqQ4bPcjkl-L0BEWK9_vnMA7jJOyQtBHX8l4t3m9abV2JQP7tHo3wzDVg_ikEL9vCA8wdo_GVdnnsRXP9WHV7xNz0l4Rssl2q_uq_Q8FYw"><span style="color:windowtext"><span style="font-family:arial\,sans-serif"><span style="font-size:11.0pt">Genesis Health Services Foundation</span></span></span></a><span style="font-family:arial\,sans-serif"><span style="font-size:11.0pt">&nbsp\;and&nbsp\;</span></span><a href="https://business.facebook.com/robin.boudreau?__tn__=K-R&amp\;eid=ARBCRGTOwUpkGfvRTFZsWbrlcb6V6rucejX4zQEC5EDxdrwv7_UWKfvWFWI5gF8Xw72afc-p9JfWXtMG&amp\;fref=mentions&amp\;__xts__%5B0%5D=68.ARBWB_v6eycXJAVjof5oiWqDXBJxSA-B5xk4sBqog2mbSoigfcvP3Uef5JbrZIfAZ_JeRMNcs6Eh8V6t1hC6RGnY3RtNF8SYqx0JUpuzXc03ZWpPfYsiT03j5MV-Y92yhX2LW_8kF0zSLSxcf0hEA_E-puOu_0rUiIHS2kHcYP6tcB1RhNpnhqjFI8NssfG2H3NCXZfUkPny1t_kkAz97SJgOuqIid8HJ65kH_PLjJIUWNg9nqQ4bPcjkl-L0BEWK9_vnMA7jJOyQtBHX8l4t3m9abV2JQP7tHo3wzDVg_ikEL9vCA8wdo_GVdnnsRXP9WHV7xNz0l4Rssl2q_uq_Q8FYw" title="Robin Boudreau"><span style="color:windowtext"><span style="font-family:arial\,sans-serif"><span style="font-size:11.0pt">Robin Boudreau</span></span></span></a><span style="font-family:arial\,sans-serif"><span style="font-size:11.0pt">\, Founder of NFTS.</span></span><br />\n&nbsp\;<br />\n<span style="font-family:arial\,sans-serif"><span style="font-size:11.0pt">We welcome all families experiencing pregnancy and infant loss - we are here to celebrate your angels! We welcome the support of like-minded organizations\, businesses\, and individuals that believe in the same sense of community and our mission to build birthing + bereavement suites. We welcome all of those who are ready to LEAN IN and to connect with NFTS in a philanthropic way that can generate big things!</span></span><br />\n&nbsp\;<br />\n<span style="font-family:arial\,sans-serif"><span style="font-size:11.0pt">NFTS SUITE SOCIAL AGENDA: </span></span><br />\n<span style="font-family:arial\,sans-serif"><span style="font-size:11.0pt">Doors Open - 6pm<br />\nCocktail Hour - 6-7pm<br />\nDinner Served &ndash\; 7pm<br />\nFeature Presentations </span></span><br />\n&nbsp\;<br />\n<span style="font-family:arial\,sans-serif"><span style="font-size:11.0pt">SEATING IS LIMITED. PURCHASE YOUR TICKETS TODAY!</span></span><br />\n<span style="font-family:arial\,sans-serif"><span style="font-size:11.0pt">$100 per person<br />\n$1000 table of 10</span></span><br />\n&nbsp\;<br />\n<span style="font-family:arial\,sans-serif"><span style="font-size:11.0pt">REGISTER ONLINE:&nbsp\;</span></span><br />\n<a href="https://www.nofoottoosmall.org/events/upcoming_events.html/event-form/registration-form/39320/tickets"><span style="color:blue">https://www.nofoottoosmall.org/events/upcoming_events.html/event-form/registration-form/39320/tickets</span></a><br />\n&nbsp\;<br />\n<em><span style="font-family:arial\,sans-serif"><span style="font-size:11.0pt">*Tickets must be purchased in advance. Physical tickets will not be shipped. Please enter the names of attendees to your order. These will be confirmed at check-in.</span></span></em><br />\n&nbsp\;<br />\n<span style="font-family:arial\,sans-serif"><span style="font-size:11.0pt">CONTACT INFO: </span></span><br />\n<span style="font-family:arial\,sans-serif"><span style="font-size:11.0pt">Robin Boudreau<br />\nrobin@nofoottoosmall.org</span></span><br />\n&nbsp\;<br />\n&nbsp\;
LOCATION:Hotel Blackhawk - 200 E Third Street\, Davenport\, IA 52801
UID:e.2843.17460
SEQUENCE:3
DTSTAMP:20260422T015538Z
URL:https://member.quadcitieschamber.com/events/details/quad-cities-no-foot-too-small-suite-social-01-11-2020-17460
END:VEVENT

END:VCALENDAR
