BEGIN:VCALENDAR
VERSION:2.0
PRODID:-//ChamberMaster//Event Calendar 2.0//EN
METHOD:PUBLISH
X-PUBLISHED-TTL:P3D
REFRESH-INTERVAL:P3D
CALSCALE:GREGORIAN
BEGIN:VEVENT
DTSTART:20200112T000000Z
DTEND:20200112T030000Z
X-MICROSOFT-CDO-ALLDAYEVENT:FALSE
SUMMARY:Quad Cities NO FOOT TOO SMALL Suite Social
DESCRIPTION:Please join us for our first No Foot Too Small (NFTS) Suite Social in the Quad Cities! This event will be held on Saturday\, January 11th\, 2020 at the Hotel Blackhawk\, Autograph Collection in Davenport\, IA!\n\nThe event will feature a cocktail hour\, plated dinner\, and live music! You will hear from Dr. Lyndsey and Kyle Day\, Jess and Jenny Buntmeyer\, Angela Kendall of Genesis Health Services Foundation and Robin Boudreau\, Founder of NFTS.\n\nWe welcome all families experiencing pregnancy and infant loss - we are here to celebrate your angels! We welcome the support of like-minded organizations\, businesses\, and individuals that believe in the same sense of community and our mission to build birthing + bereavement suites. We welcome all of those who are ready to LEAN IN and to connect with NFTS in a philanthropic way that can generate big things!\n\n\nAGENDA:\n\nDoors Open - 6 pm\n\nHappy Hour - 6-7 pm\n\nDinner Served - 7 pm\n\nFeature Presentations - 7 pm\n\nSEATING IS LIMITED. PURCHASE YOUR TICKETS TODAY!*\n\n$100 per person\n\n$1000 table of 10\n\nREGISTER NOW: \n\nhttps://www.nofoottoosmall.org/events/upcoming_events.html/event/2020/01/11/davenport-suite-social/254106?fbclid=IwAR2g_CjsBd5DhXWr2mu_rA7kGIzvFa5ZZcGa8OE8HNSpGV6MNUmSNOmHTCk\n\n*Tickets must be purchased in advance. Physical tickets will not be shipped. Please enter the names of attendees to your order. These will be confirmed at check-in.\n\nCONTACT INFO:\n\nRobin Boudreau\n\nrobin@nofoottoosmall.org
X-ALT-DESC;FMTTYPE=text/html:<p>Please join us for our first&nbsp\;<a class="profileLink" href="https://business.facebook.com/thereisnofoottoosmall/?__tn__=K-R&amp\;eid=ARDFNd14JcOD_mDUEizE1Ea5NW3-CaFatBOSa5CBE95Oi39V3wqtmfqcTcVbJUqJ4Y7Z4v-Lzgd33k0D&amp\;fref=mentions&amp\;__xts__%5B0%5D=68.ARDELlmVnKuGYjSU8DUMp38wkiwlZOpOKY2pUblov2Uke8gm2irl7PnnW1uB4qy2trmqyT--choBaCq_zCYNEe_NU2595QctLHG3ILHu3lwCsZhr3m9AKckH327FnN5XKsJAEomjpjo_Wafaj3Ea_y73-fHixpPtCBgBDcN1KTu_pYtuw_fFL3sEK2xVxxLDfb38XV4i-JFLzn_d9Yg5gHlNPWm9vrbdZw2kA6vvPbEWJe9XqkTtjfXULa1T3U24UNMLBYSrF5blggqZRvCfvl9Z4xh6vqqC1TCwHYFBJwI4GEQWRlCKIC9atKey_PfvtzykMXeGOhZiY9-iWHmqHuWntQ" style="color: rgb(56\, 88\, 152)\; cursor: pointer\; text-decoration-line: none\; font-family: inherit\;">No Foot Too Small</a>&nbsp\;(NFTS) Suite Social in the Quad Cities! This event will be held on Saturday\, January 11th\, 2020 at the&nbsp\;<a class="profileLink" href="https://business.facebook.com/HotelBlackhawk/?__tn__=K-R&amp\;eid=ARBtS-Dip9dwgWfKWx_pATTSk--XXNPAYch1-0mGc9Ed3KL1ZuRTEzfsLVIggKXWcft8CkJ4Chq-e4OH&amp\;fref=mentions&amp\;__xts__%5B0%5D=68.ARDELlmVnKuGYjSU8DUMp38wkiwlZOpOKY2pUblov2Uke8gm2irl7PnnW1uB4qy2trmqyT--choBaCq_zCYNEe_NU2595QctLHG3ILHu3lwCsZhr3m9AKckH327FnN5XKsJAEomjpjo_Wafaj3Ea_y73-fHixpPtCBgBDcN1KTu_pYtuw_fFL3sEK2xVxxLDfb38XV4i-JFLzn_d9Yg5gHlNPWm9vrbdZw2kA6vvPbEWJe9XqkTtjfXULa1T3U24UNMLBYSrF5blggqZRvCfvl9Z4xh6vqqC1TCwHYFBJwI4GEQWRlCKIC9atKey_PfvtzykMXeGOhZiY9-iWHmqHuWntQ" style="color: rgb(56\, 88\, 152)\; cursor: pointer\; text-decoration-line: none\; font-family: inherit\;">Hotel Blackhawk\, Autograph Collection</a>&nbsp\;in Davenport\, IA!</p>\n\n<p>The event will feature a cocktail hour\, plated dinner\, and live music! You will hear from Dr. Lyndsey and Kyle Day\, Jess and Jenny Buntmeyer\, Angela Kendall of&nbsp\;<a class="profileLink" href="https://business.facebook.com/ghsfoundation/?__tn__=K-R&amp\;eid=ARA3MLkmHnQqMqf0edP0KkLYRIlBhuPkiTkfRCwLcRTr24uFe4g_mMopkVOHQR82hgyTswQWCcavwYcQ&amp\;fref=mentions&amp\;__xts__%5B0%5D=68.ARDELlmVnKuGYjSU8DUMp38wkiwlZOpOKY2pUblov2Uke8gm2irl7PnnW1uB4qy2trmqyT--choBaCq_zCYNEe_NU2595QctLHG3ILHu3lwCsZhr3m9AKckH327FnN5XKsJAEomjpjo_Wafaj3Ea_y73-fHixpPtCBgBDcN1KTu_pYtuw_fFL3sEK2xVxxLDfb38XV4i-JFLzn_d9Yg5gHlNPWm9vrbdZw2kA6vvPbEWJe9XqkTtjfXULa1T3U24UNMLBYSrF5blggqZRvCfvl9Z4xh6vqqC1TCwHYFBJwI4GEQWRlCKIC9atKey_PfvtzykMXeGOhZiY9-iWHmqHuWntQ" style="color: rgb(56\, 88\, 152)\; cursor: pointer\; text-decoration-line: none\; font-family: inherit\;">Genesis Health Services Foundation</a>&nbsp\;and&nbsp\;<a class="profileLink" href="https://business.facebook.com/robin.boudreau?__tn__=K-R&amp\;eid=ARBKTEV63tpeXUr6inaBd76gmU2u63wE9TS1k2DK_FERx1gU1Tnk88x4NqgkeD5fw9VIeqIFng8I1djx&amp\;fref=mentions&amp\;__xts__%5B0%5D=68.ARDELlmVnKuGYjSU8DUMp38wkiwlZOpOKY2pUblov2Uke8gm2irl7PnnW1uB4qy2trmqyT--choBaCq_zCYNEe_NU2595QctLHG3ILHu3lwCsZhr3m9AKckH327FnN5XKsJAEomjpjo_Wafaj3Ea_y73-fHixpPtCBgBDcN1KTu_pYtuw_fFL3sEK2xVxxLDfb38XV4i-JFLzn_d9Yg5gHlNPWm9vrbdZw2kA6vvPbEWJe9XqkTtjfXULa1T3U24UNMLBYSrF5blggqZRvCfvl9Z4xh6vqqC1TCwHYFBJwI4GEQWRlCKIC9atKey_PfvtzykMXeGOhZiY9-iWHmqHuWntQ" style="color: rgb(56\, 88\, 152)\; cursor: pointer\; text-decoration-line: none\; font-family: inherit\;" title="Robin Boudreau">Robin Boudreau</a>\, Founder of NFTS.</p>\n\n<p>We welcome all families experiencing pre<span style="font-family:inherit">gnancy and infant loss - we are here to celebrate your angels! We welcome the support of like-minded organizations\, businesses\, and individuals that believe in the same sense of community and our mission to build birthing + bereavement suites. We welcome all of those who are ready to LEAN IN and to connect with NFTS in a philanthropic way that can generate big things!</span></p>\n\n<div>\n<p>AGENDA:<br />\n<strong>Doors Open - 6 pm<br />\nHappy Hour - 6-7 pm<br />\nDinner Served - 7 pm<br />\nFeature Presentations - 7 pm</strong></p>\n\n<p>SEATING IS LIMITED. PURCHASE YOUR TICKETS TODAY!*<br />\n<strong>$100 per person<br />\n$1000 table of 10</strong></p>\n\n<p><a href="https://www.nofoottoosmall.org/events/upcoming_events.html/event/2020/01/11/davenport-suite-social/254106?fbclid=IwAR2g_CjsBd5DhXWr2mu_rA7kGIzvFa5ZZcGa8OE8HNSpGV6MNUmSNOmHTCk">REGISTER NOW</a>:&nbsp\;<br />\n<a href="https://www.nofoottoosmall.org/events/upcoming_events.html/event/2020/01/11/davenport-suite-social/254106?fbclid=IwAR2g_CjsBd5DhXWr2mu_rA7kGIzvFa5ZZcGa8OE8HNSpGV6MNUmSNOmHTCk">https://www.nofoottoosmall.org/events/upcoming_events.html/event/2020/01/11/davenport-suite-social/254106?fbclid=IwAR2g_CjsBd5DhXWr2mu_rA7kGIzvFa5ZZcGa8OE8HNSpGV6MNUmSNOmHTCk</a></p>\n\n<p>*Tickets must be purchased in advance. Physical tickets will not be shipped. Please enter the names of attendees to your order. These will be confirmed at check-in.</p>\n\n<p>CONTACT INFO:<br />\nRobin Boudreau<br />\nrobin@nofoottoosmall.org</p>\n</div>\n
LOCATION:Hotel Blackhawk\, Autograph Collection 200 E 3rd St.\, Davenport\, IA 52801
UID:e.2843.17085
SEQUENCE:3
DTSTAMP:20260422T015523Z
URL:https://member.quadcitieschamber.com/events/details/quad-cities-no-foot-too-small-suite-social-17085
END:VEVENT

END:VCALENDAR
