BEGIN:VCALENDAR
VERSION:2.0
PRODID:-//ChamberMaster//Event Calendar 2.0//EN
METHOD:PUBLISH
X-PUBLISHED-TTL:P3D
REFRESH-INTERVAL:P3D
CALSCALE:GREGORIAN
BEGIN:VEVENT
DTSTART:20130205T160000Z
DTEND:20130205T163000Z
X-MICROSOFT-CDO-ALLDAYEVENT:FALSE
SUMMARY:Quad Cities Personal Training Ribbon Cutting
DESCRIPTION:Please help celebrate new member\, Quad Cities Personal Training\, with a ribbon cutting on Tuesday\, February 5th at 10:00am.  Located at 810 Golden Valley Drive in Bettendorf – inside the Ultimate Fitness location – just off Utica Ridge Rd (same vicinity as The Lodge Hotel & Conference Center and Courtyard by Marriott). They offer affordable personal and small group training in a fun and inviting environment. For more information\, please visit www.qcpersonaltraining.com.
X-ALT-DESC;FMTTYPE=text/html:<P style="MARGIN: 0in 0in 0pt" class=MsoNormal><FONT face=Calibri>Please help celebrate new member\, Quad Cities Personal Training\, with a ribbon cutting on Tuesday\, February 5<SUP>th</SUP> at 10:00am.<SPAN style="mso-spacerun: yes">&nbsp\; </SPAN>Located at 810 Golden Valley Drive in Bettendorf – inside the Ultimate Fitness location – just off Utica Ridge Rd (same vicinity as The Lodge Hotel &amp\; Conference Center and Courtyard by Marriott).</FONT></P><P style="MARGIN: 0in 0in 0pt" class=MsoNormal><?xml:namespace prefix = o ns = "urn:schemas-microsoft-com:office:office" /><o:p><FONT face=Calibri>&nbsp\;</FONT></o:p></P><P style="MARGIN: 0in 0in 0pt" class=MsoNormal><FONT face=Calibri>They offer affordable personal and small group training in a fun and inviting environment.</FONT></P><P style="MARGIN: 0in 0in 0pt" class=MsoNormal><o:p><FONT face=Calibri>&nbsp\;</FONT></o:p></P><P style="MARGIN: 0in 0in 0pt" class=MsoNormal><FONT face=Calibri>For more information\, please visit </FONT><A href="http://www.qcpersonaltraining.com">www.qcpersonaltraining.com</A>.</P><DIV style="FONT-FAMILY: Arial">&nbsp\;</DIV>
LOCATION:Quad Cities Personal Training810 Golden Valley Dr. Bettendorf\, IA 52722
UID:e.2843.516
SEQUENCE:3
DTSTAMP:20260421T104612Z
URL:https://member.quadcitieschamber.com/events/details/quad-cities-personal-training-ribbon-cutting-02-05-2013-516
END:VEVENT

END:VCALENDAR
