BEGIN:VCALENDAR
VERSION:2.0
PRODID:-//ChamberMaster//Event Calendar 2.0//EN
METHOD:PUBLISH
X-PUBLISHED-TTL:P3D
REFRESH-INTERVAL:P3D
CALSCALE:GREGORIAN
BEGIN:VEVENT
DTSTART:20130601T150000Z
DTEND:20130601T153000Z
X-MICROSOFT-CDO-ALLDAYEVENT:FALSE
SUMMARY:Quad Cities Prayer Center Ribbon Cutting
DESCRIPTION:Please help new member Quad Cities Prayer Center celebrate their new business on Saturday\, June 1st at 10:00am – Located at 320 W. Kimberly Road\, #510\, Davenport (Located next to Sears in Northpark Mall) Quad Cities Prayer Center’s mission is to mobilize prayer\, praise and training to benefit the church and see social and spiritual transformation. Please visit www.qcprayercenter.org for more information.
X-ALT-DESC;FMTTYPE=text/html:<P style="MARGIN: 0in 0in 0pt" class=MsoNormal><FONT face=Calibri>Please help new member Quad Cities Prayer Center celebrate their new business on <B style="mso-bidi-font-weight: normal">Saturday\, June 1<SUP>st</SUP> at 10:00am</B> – Located at 320 W. Kimberly Road\, #510\, Davenport (Located next to Sears in Northpark Mall)<?xml:namespace prefix = o ns = "urn:schemas-microsoft-com:office:office" /><o:p></o:p></FONT></P><P style="MARGIN: 0in 0in 0pt" class=MsoNormal><o:p><FONT face=Calibri>&nbsp\;</FONT></o:p></P><P style="MARGIN: 0in 0in 0pt" class=MsoNormal><FONT face=Calibri>Quad Cities Prayer Center’s mission is <STRONG><SPAN style="FONT-FAMILY: 'Calibri'\,'sans-serif'\; FONT-WEIGHT: normal\; mso-bidi-font-weight: bold\; mso-bidi-font-style: italic">to</SPAN></STRONG></FONT><STRONG><SPAN style="FONT-FAMILY: 'Calibri'\,'sans-serif'\; mso-bidi-font-style: italic"> </SPAN></STRONG><STRONG><SPAN style="FONT-FAMILY: 'Calibri'\,'sans-serif'\; FONT-WEIGHT: normal\; mso-bidi-font-weight: bold\; mso-bidi-font-style: italic">mobilize prayer\, praise and training to benefit the church and see social and spiritual transformation.<o:p></o:p></SPAN></STRONG></P><P style="MARGIN: 0in 0in 0pt" class=MsoNormal><STRONG><SPAN style="FONT-FAMILY: 'Calibri'\,'sans-serif'\; FONT-WEIGHT: normal\; mso-bidi-font-weight: bold\; mso-bidi-font-style: italic"><o:p>&nbsp\;</o:p></SPAN></STRONG></P><P style="MARGIN: 0in 0in 0pt" class=MsoNormal><STRONG><SPAN style="FONT-FAMILY: 'Calibri'\,'sans-serif'\; FONT-WEIGHT: normal\; mso-bidi-font-weight: bold\; mso-bidi-font-style: italic">Please visit <A href="http://www.qcprayercenter.org"><SPAN style="mso-bidi-font-weight: normal"><FONT face="Times New Roman">www.qcprayercenter.org</FONT></SPAN></A> for more information.<o:p></o:p></SPAN></STRONG></P><DIV style="FONT-FAMILY: Arial">&nbsp\;</DIV>
LOCATION:Quad Cities Prayer Center320 W. Kimberly Road #510 Davenport\, IA 52806
UID:e.2843.596
SEQUENCE:3
DTSTAMP:20260421T134724Z
URL:https://member.quadcitieschamber.com/events/details/quad-cities-prayer-center-ribbon-cutting-06-01-2013-596
END:VEVENT

END:VCALENDAR
