BEGIN:VCALENDAR
VERSION:2.0
PRODID:-//ChamberMaster//Event Calendar 2.0//EN
METHOD:PUBLISH
X-PUBLISHED-TTL:P3D
REFRESH-INTERVAL:P3D
CALSCALE:GREGORIAN
BEGIN:VEVENT
DTSTART:20170408T140000Z
DTEND:20170408T170000Z
X-MICROSOFT-CDO-ALLDAYEVENT:FALSE
SUMMARY:Quad Cities River Bandits 5k and Fun Run
DESCRIPTION:The Quad Cities River Bandits are hosting their annual Bandits Race to Home 5K presented by Palmer Chiropractic Clinic and Michelob Ultra. Race starts at 9am at Modern Woodmen Park\, and all proceeds will go to the Bandits Scholar Program\, which funds three college scholarships each year for Quad Cities youth and is administered by the Community Foundation. Family Fun All Summer Long at Modern Woodmen Park\, the Friendliest Ballpark in America!
X-ALT-DESC;FMTTYPE=text/html:The Quad Cities River Bandits are hosting their annual Bandits Race to Home 5K presented by Palmer Chiropractic Clinic and Michelob Ultra. Race starts at 9am at Modern Woodmen Park\, and all proceeds will go to the Bandits Scholar Program\, which funds three college scholarships each year for Quad Cities youth and is administered by the Community Foundation. Family Fun All Summer Long at Modern Woodmen Park\, the Friendliest Ballpark in America!
LOCATION:Modern Woodmen Park 209 South Gaines St Davenport\, IA\, 52803
UID:e.2843.4753
SEQUENCE:3
DTSTAMP:20260424T061042Z
URL:https://member.quadcitieschamber.com/events/details/quad-cities-river-bandits-5k-and-fun-run-4753
END:VEVENT

END:VCALENDAR
