BEGIN:VCALENDAR
VERSION:2.0
PRODID:-//ChamberMaster//Event Calendar 2.0//EN
METHOD:PUBLISH
X-PUBLISHED-TTL:P3D
REFRESH-INTERVAL:P3D
CALSCALE:GREGORIAN
BEGIN:VEVENT
DTSTART:20170503T233500Z
DTEND:20170504T030000Z
X-MICROSOFT-CDO-ALLDAYEVENT:FALSE
SUMMARY:Quad Cities River Bandits Amusement Ride Openings
DESCRIPTION:It's Winning Wednesday as the River Bandits play the Fort Wayne TinCaps at 6:35pm with gates opening at 5:35pm. Come check out the opening of the amusement rides with post-game fireworks\, and each person in attendance will have a chance to win a Mega Flat Screen TV. Family Fun All Summer Long at Modern Woodmen Park\, the Friendliest Ballpark in America!
X-ALT-DESC;FMTTYPE=text/html:It&rsquo\;s Winning Wednesday as the River Bandits play the Fort Wayne TinCaps at 6:35pm with gates opening at 5:35pm. Come check out the opening of the amusement rides with post-game fireworks\, and each person in attendance will have a chance to win a Mega Flat Screen TV. Family Fun All Summer Long at Modern Woodmen Park\, the Friendliest Ballpark in America!
LOCATION:Modern Woodmen Park 209 South Gaines Street
UID:e.2843.4772
SEQUENCE:3
DTSTAMP:20260424T031556Z
URL:https://member.quadcitieschamber.com/events/details/quad-cities-river-bandits-amusement-ride-openings-4772
END:VEVENT

END:VCALENDAR
