BEGIN:VCALENDAR
VERSION:2.0
PRODID:-//ChamberMaster//Event Calendar 2.0//EN
METHOD:PUBLISH
X-PUBLISHED-TTL:P3D
REFRESH-INTERVAL:P3D
CALSCALE:GREGORIAN
BEGIN:VEVENT
DTSTART:20170515T160000Z
DTEND:20170515T200000Z
X-MICROSOFT-CDO-ALLDAYEVENT:FALSE
SUMMARY:Quad Cities River Bandits Baseball Education Day
DESCRIPTION:Baseball in Education Day at the ballpark as the River Bandits open the series against the Burlington Bees at 11am with gates opening at 10am. Before the game enjoy a parade of students participating in the River Bandits Book Buddies Reading Program. Family Fun All Summer Long at Modern Woodmen Park\, the Friendliest Ballpark in America!
X-ALT-DESC;FMTTYPE=text/html:Baseball in Education Day at the ballpark as the River Bandits open the series against the Burlington Bees at 11am with gates opening at 10am. Before the game enjoy a parade of students participating in the River Bandits Book Buddies Reading Program. Family Fun All Summer Long at Modern Woodmen Park\, the Friendliest Ballpark in America!
LOCATION:Modern Woodmen Park 209 South Gaines Street Davenport\, IA 52802
UID:e.2843.5775
SEQUENCE:3
DTSTAMP:20260424T031643Z
URL:https://member.quadcitieschamber.com/events/details/quad-cities-river-bandits-baseball-education-day-5775
END:VEVENT

END:VCALENDAR
