BEGIN:VCALENDAR
VERSION:2.0
PRODID:-//ChamberMaster//Event Calendar 2.0//EN
METHOD:PUBLISH
X-PUBLISHED-TTL:P3D
REFRESH-INTERVAL:P3D
CALSCALE:GREGORIAN
BEGIN:VEVENT
DTSTART:20170523T233500Z
DTEND:20170524T020000Z
X-MICROSOFT-CDO-ALLDAYEVENT:FALSE
SUMMARY:Quad Cities River Bandits Black & Brave Night
DESCRIPTION:The River Bandits take on the Peoria Chiefs on Black & Brave night as the Black & Brave Wrestling Academy will be featured throughout the game. First pitch is 6:35pm with gates opening at 5:35pm. Also it's Dew for Twosday\, along with $2 Busch Lights\, and Military Day as all Military personnel can get $1 Bleacher Seats! Family Fun All Summer Long at Modern Woodmen Park\, the Friendliest Ballpark in America!
X-ALT-DESC;FMTTYPE=text/html:The River Bandits take on the Peoria Chiefs on Black &amp\; Brave night as the Black &amp\; Brave Wrestling Academy will be featured throughout the game. First pitch is 6:35pm with gates opening at 5:35pm. Also it&rsquo\;s Dew for Twosday\, along with $2 Busch Lights\, and Military Day as all Military personnel can get $1 Bleacher Seats! Family Fun All Summer Long at Modern Woodmen Park\, the Friendliest Ballpark in America!
LOCATION:Modern Woodmen Park 209 South Gaines Street Davenport\, IA 52802
UID:e.2843.5781
SEQUENCE:3
DTSTAMP:20260424T031518Z
URL:https://member.quadcitieschamber.com/events/details/quad-cities-river-bandits-black-brave-night-5781
END:VEVENT

END:VCALENDAR
