BEGIN:VCALENDAR
VERSION:2.0
PRODID:-//ChamberMaster//Event Calendar 2.0//EN
METHOD:PUBLISH
X-PUBLISHED-TTL:P3D
REFRESH-INTERVAL:P3D
CALSCALE:GREGORIAN
BEGIN:VEVENT
DTSTART:20170527T233500Z
DTEND:20170528T030000Z
X-MICROSOFT-CDO-ALLDAYEVENT:FALSE
SUMMARY:Quad Cities River Bandits Bobble Giveaway
DESCRIPTION:Memorial Day weekend fun continues with first bobble giveaway of the season as the River Bandits take on the Beloit Snappers at 6:35pm. Gates open at 5:35 where you can get a Ferris Wheel Bobble presented by Red Hot Chicago! As part of the SaturYAY fun\, make sure to stop by the balloon twisting and face painting table. Family Fun All Summer Long at Modern Woodmen Park\, the Friendliest Ballpark in America!
X-ALT-DESC;FMTTYPE=text/html:Memorial Day weekend fun continues with first bobble giveaway of the season as the River Bandits take on the Beloit Snappers at 6:35pm. Gates open at 5:35 where you can get a Ferris Wheel Bobble presented by Red Hot Chicago! As part of the SaturYAY fun\, make sure to stop by the balloon twisting and face painting table. Family Fun All Summer Long at Modern Woodmen Park\, the Friendliest Ballpark in America!
LOCATION:Modern Woodmen Park 209 South Gaines Street Davenport\, IA 52802
UID:e.2843.5785
SEQUENCE:3
DTSTAMP:20260424T043948Z
URL:https://member.quadcitieschamber.com/events/details/quad-cities-river-bandits-bobble-giveaway-5785
END:VEVENT

END:VCALENDAR
