BEGIN:VCALENDAR
VERSION:2.0
PRODID:-//ChamberMaster//Event Calendar 2.0//EN
METHOD:PUBLISH
X-PUBLISHED-TTL:P3D
REFRESH-INTERVAL:P3D
CALSCALE:GREGORIAN
BEGIN:VEVENT
DTSTART:20170615T233500Z
DTEND:20170615T233500Z
X-MICROSOFT-CDO-ALLDAYEVENT:FALSE
SUMMARY:Quad Cities River Bandits Booker T Night!
DESCRIPTION:WWE Hall of Famer Booker T will be in attendance to watch the River Bandits wrap up the homestand against the Cedar Rapids Kernels at 6:35pm with gates opening at 5:35pm. It's also Guys Night courtesy of 7G Distributors. With it being Thirst-Day Thursdays fans can get $2 beer and soda specials! Family Fun All Summer Long at Modern Woodmen Park\, the Friendliest Ballpark in America!
X-ALT-DESC;FMTTYPE=text/html:WWE Hall of Famer Booker T will be in attendance to watch the River Bandits wrap up the homestand against the Cedar Rapids Kernels at 6:35pm with gates opening at 5:35pm. It&rsquo\;s also Guys Night courtesy of 7G Distributors. With it being Thirst-Day Thursdays fans can get $2 beer and soda specials! Family Fun All Summer Long at Modern Woodmen Park\, the Friendliest Ballpark in America!
LOCATION:Modern Woodmen Park 209 S. Gaines St. Davenport\, IA 52802
UID:e.2843.6075
SEQUENCE:3
DTSTAMP:20260424T031734Z
URL:https://member.quadcitieschamber.com/events/details/quad-cities-river-bandits-booker-t-night-6075
END:VEVENT

END:VCALENDAR
