BEGIN:VCALENDAR
VERSION:2.0
PRODID:-//ChamberMaster//Event Calendar 2.0//EN
METHOD:PUBLISH
X-PUBLISHED-TTL:P3D
REFRESH-INTERVAL:P3D
CALSCALE:GREGORIAN
BEGIN:VEVENT
DTSTART:20170505T233500Z
DTEND:20170506T030000Z
X-MICROSOFT-CDO-ALLDAYEVENT:FALSE
SUMMARY:Quad Cities River Bandits Cinco de Mayo Fiesta
DESCRIPTION:Los Mocambos is performing pre-game for the Cinco de Mayo Fiesta as the Quad Cities River Bandits open their weekend series against the Lane County Captains at 6:35pm with gates opening at 5:35pm. It is Advantage Weed & Feed Night at the stadium along with postgame fireworks presented by Smart Toyota of Quad Cities. Family Fun All Summer Long at Modern Woodmen Park\, the Friendliest Ballpark in America!
X-ALT-DESC;FMTTYPE=text/html:Los Mocambos is performing pre-game for the Cinco de Mayo Fiesta as the Quad Cities River Bandits open their weekend series against the Lane County Captains at 6:35pm with gates opening at 5:35pm. It is Advantage Weed &amp\; Feed Night at the stadium along with postgame fireworks presented by Smart Toyota of Quad Cities. Family Fun All Summer Long at Modern Woodmen Park\, the Friendliest Ballpark in America!
LOCATION:Modern Woodmen Park 209 South Gaines Street Davenport\, IA 52802
UID:e.2843.5772
SEQUENCE:3
DTSTAMP:20260424T044041Z
URL:https://member.quadcitieschamber.com/events/details/quad-cities-river-bandits-cinco-de-mayo-fiesta-5772
END:VEVENT

END:VCALENDAR
