BEGIN:VCALENDAR
VERSION:2.0
PRODID:-//ChamberMaster//Event Calendar 2.0//EN
METHOD:PUBLISH
X-PUBLISHED-TTL:P3D
REFRESH-INTERVAL:P3D
CALSCALE:GREGORIAN
BEGIN:VEVENT
DTSTART:20170423T181500Z
DTEND:20170423T220000Z
X-MICROSOFT-CDO-ALLDAYEVENT:FALSE
SUMMARY:Quad Cities River Bandits First Sunday-Funday
DESCRIPTION:It's the first Sunday home game of the year so bring your family to the ballpark for United Healthcare Family Sunday as the River Bandits wrap up the series against the Clinton LumberKings at 1:15pm! Gates open at 12:15pm. Be sure to come early to get pre-game autographs and stay after for the kids to participate in the post-game Kids Run the Bases sponsored by Prairie Farms. Also\, don't forget to bring your most beloved pooches every Sunday for Bark in the Park courtesy of B-100. Family Fun All Summer Long at Modern Woodmen Park\, the Friendliest Ballpark in America!
X-ALT-DESC;FMTTYPE=text/html:It&rsquo\;s the first Sunday home game of the year so bring your family to the ballpark for United Healthcare Family Sunday as the River Bandits wrap up the series against the Clinton LumberKings at 1:15pm! Gates open at 12:15pm. Be sure to come early to get pre-game autographs and stay after for the kids to participate in the post-game Kids Run the Bases sponsored by Prairie Farms. Also\, don&rsquo\;t forget to bring your most beloved pooches every Sunday for Bark in the Park courtesy of B-100. Family Fun All Summer Long at Modern Woodmen Park\, the Friendliest Ballpark in America!
LOCATION:Modern Woodmen Park 209 South Gaines Street Davenport\, IA 52802
UID:e.2843.4767
SEQUENCE:3
DTSTAMP:20260424T044534Z
URL:https://member.quadcitieschamber.com/events/details/quad-cities-river-bandits-first-sunday-funday-4767
END:VEVENT

END:VCALENDAR
