BEGIN:VCALENDAR
VERSION:2.0
PRODID:-//ChamberMaster//Event Calendar 2.0//EN
METHOD:PUBLISH
X-PUBLISHED-TTL:P3D
REFRESH-INTERVAL:P3D
CALSCALE:GREGORIAN
BEGIN:VEVENT
DTSTART:20170421T233500Z
DTEND:20170422T030000Z
X-MICROSOFT-CDO-ALLDAYEVENT:FALSE
SUMMARY:Quad Cities River Bandits Halfway to Halloween
DESCRIPTION:Come enjoy Halfway to Halloween Night featuring the Factory of Fear with the Quad City River Bandits as they battle the Clinton LumberKings at 6:35pm with gates opening at 5:35pm. Before the game enjoy a parade of students participating in the River Bandits Book Buddies Reading Program. Make sure to stay after the game for Fireworks Friday present by Smart Toyota of Quad Cities. Family Fun All Summer Long at Modern Woodmen Park\, the Friendliest Ballpark in America!
X-ALT-DESC;FMTTYPE=text/html:Come enjoy Halfway to Halloween Night featuring the Factory of Fear with the Quad City River Bandits as they battle the Clinton LumberKings at 6:35pm with gates opening at 5:35pm. Before the game enjoy a parade of students participating in the River Bandits Book Buddies Reading Program. Make sure to stay after the game for Fireworks Friday present by Smart Toyota of Quad Cities. Family Fun All Summer Long at Modern Woodmen Park\, the Friendliest Ballpark in America!
LOCATION:Modern Woodmen Park 209 South Gaines Street Davenport\, IA 52802
UID:e.2843.4765
SEQUENCE:3
DTSTAMP:20260424T044700Z
URL:https://member.quadcitieschamber.com/events/details/quad-cities-river-bandits-halfway-to-halloween-4765
END:VEVENT

END:VCALENDAR
