BEGIN:VCALENDAR
VERSION:2.0
PRODID:-//ChamberMaster//Event Calendar 2.0//EN
METHOD:PUBLISH
X-PUBLISHED-TTL:P3D
REFRESH-INTERVAL:P3D
CALSCALE:GREGORIAN
BEGIN:VEVENT
DTSTART:20170422T181500Z
DTEND:20170422T220000Z
X-MICROSOFT-CDO-ALLDAYEVENT:FALSE
SUMMARY:Quad Cities River Bandits Irish Heritage Day
DESCRIPTION:Come enjoy Irish entertainment with the River Bandits as they battle against the Clinton LumberKings at 1:15pm for their Irish Heritage Day celebration brought to you by 7G Distributors. Gates open at 12:15 with a sunglasses giveaway for the first 1\,000 fans\, so arrive early! Fans will also be able to listen the Irish band Exoma before and after the game as well as hear the Black Hawk Pipes & Drums band throughout the event. Be sure to keep an eye out for Mayer School of Irish Dance and the National Anthem performance on a harp. This SaturYAY game will be sure to keep the Family Fun All Summer Long at Modern Woodmen Park\, the Friendliest Ballpark in America!
X-ALT-DESC;FMTTYPE=text/html:Come enjoy Irish entertainment with the River Bandits as they battle against the Clinton LumberKings at 1:15pm for their Irish Heritage Day celebration brought to you by 7G Distributors. Gates open at 12:15 with a sunglasses giveaway for the first 1\,000 fans\, so arrive early! Fans will also be able to listen the Irish band Exoma before and after the game as well as hear the Black Hawk Pipes &amp\; Drums band throughout the event. Be sure to keep an eye out for Mayer School of Irish Dance and the National Anthem performance on a harp. This SaturYAY game will be sure to keep the Family Fun All Summer Long at Modern Woodmen Park\, the Friendliest Ballpark in America!
LOCATION:Modern Woodmen Park 209 South Gaines Street Davenport\, IA 52802
UID:e.2843.4766
SEQUENCE:3
DTSTAMP:20260424T044731Z
URL:https://member.quadcitieschamber.com/events/details/quad-cities-river-bandits-irish-heritage-day-4766
END:VEVENT

END:VCALENDAR
