BEGIN:VCALENDAR
VERSION:2.0
PRODID:-//ChamberMaster//Event Calendar 2.0//EN
METHOD:PUBLISH
X-PUBLISHED-TTL:P3D
REFRESH-INTERVAL:P3D
CALSCALE:GREGORIAN
BEGIN:VEVENT
DTSTART:20170529T221500Z
DTEND:20170530T020000Z
X-MICROSOFT-CDO-ALLDAYEVENT:FALSE
SUMMARY:Quad Cities River Bandits Memorial Day Celebration
DESCRIPTION:Come celebrate Memorial Day at the ballpark as the River Bandits conclude their series with the Beloit Snappers at 5:15pm with gates opening at 4:15pm. All military personnel get in FREE! It's also Brews and Brats Monday with all premium brews and brats just $3 each! Family Fun All Summer Long at Modern Woodmen Park\, the Friendliest Ballpark in America!
X-ALT-DESC;FMTTYPE=text/html:Come celebrate Memorial Day at the ballpark as the River Bandits conclude their series with the Beloit Snappers at 5:15pm with gates opening at 4:15pm. All military personnel get in FREE! It&rsquo\;s also Brews and Brats Monday with all premium brews and brats just $3 each! Family Fun All Summer Long at Modern Woodmen Park\, the Friendliest Ballpark in America!
LOCATION:Modern Woodmen Park 209 South Gaines Street Davenport\, IA 52802
UID:e.2843.5787
SEQUENCE:3
DTSTAMP:20260424T043949Z
URL:https://member.quadcitieschamber.com/events/details/quad-cities-river-bandits-memorial-day-celebration-5787
END:VEVENT

END:VCALENDAR
