BEGIN:VCALENDAR
VERSION:2.0
PRODID:-//ChamberMaster//Event Calendar 2.0//EN
METHOD:PUBLISH
X-PUBLISHED-TTL:P3D
REFRESH-INTERVAL:P3D
CALSCALE:GREGORIAN
BEGIN:VEVENT
DTSTART:20170525T223500Z
DTEND:20170526T030000Z
X-MICROSOFT-CDO-ALLDAYEVENT:FALSE
SUMMARY:Quad Cities River Bandits Military Night
DESCRIPTION:Watch the River Bandits wrap up the series against the Peoria Chiefs on Military Appreciation Night! All Military personnel will receive discounted tickets courtesy of R.I.A. Federal Credit Union. Gates open at 5:35pm with first pitch scheduled for 6:35pm. Also\, it's Thirst-Day Thursday featuring $2 beer and soda specials! Family Fun All Summer Long at Modern Woodmen Park\, the Friendliest Ballpark in America!
X-ALT-DESC;FMTTYPE=text/html:Watch the River Bandits wrap up the series against the Peoria Chiefs on Military Appreciation Night! All Military personnel will receive discounted tickets courtesy of R.I.A. Federal Credit Union. Gates open at 5:35pm with first pitch scheduled for 6:35pm. Also\, it&rsquo\;s Thirst-Day Thursday featuring $2 beer and soda specials! Family Fun All Summer Long at Modern Woodmen Park\, the Friendliest Ballpark in America!
LOCATION:Modern Woodmen Park 209 South Gaines Street Davenport\, IA 52802
UID:e.2843.5783
SEQUENCE:3
DTSTAMP:20260424T044039Z
URL:https://member.quadcitieschamber.com/events/details/quad-cities-river-bandits-military-night-5783
END:VEVENT

END:VCALENDAR
