BEGIN:VCALENDAR
VERSION:2.0
PRODID:-//ChamberMaster//Event Calendar 2.0//EN
METHOD:PUBLISH
X-PUBLISHED-TTL:P3D
REFRESH-INTERVAL:P3D
CALSCALE:GREGORIAN
BEGIN:VEVENT
DTSTART:20170524T223500Z
DTEND:20170525T030000Z
X-MICROSOFT-CDO-ALLDAYEVENT:FALSE
SUMMARY:Quad Cities River Bandits Mini-Fridge Giveaway
DESCRIPTION:Come cheer on the River Bandits as they play the Peoria Chiefs on Winning Wednesday at 6:35pm with gates opening at 5:35pm. Each person in attendance will have a chance to win a Mini Fridge! It's also Youth Sports night as the River Bandits will be honoring the young athletes in the community. Family Fun All Summer Long at Modern Woodmen Park\, the Friendliest Ballpark in America!
X-ALT-DESC;FMTTYPE=text/html:Come cheer on the River Bandits as they play the Peoria Chiefs on Winning Wednesday at 6:35pm with gates opening at 5:35pm. Each person in attendance will have a chance to win a Mini Fridge! It&rsquo\;s also Youth Sports night as the River Bandits will be honoring the young athletes in the community. Family Fun All Summer Long at Modern Woodmen Park\, the Friendliest Ballpark in America!
LOCATION:Modern Woodmen Park 209 South Gaines Street Davenport\, IA 52802
UID:e.2843.5782
SEQUENCE:3
DTSTAMP:20260424T031642Z
URL:https://member.quadcitieschamber.com/events/details/quad-cities-river-bandits-mini-fridge-giveaway-5782
END:VEVENT

END:VCALENDAR
