BEGIN:VCALENDAR
VERSION:2.0
PRODID:-//ChamberMaster//Event Calendar 2.0//EN
METHOD:PUBLISH
X-PUBLISHED-TTL:P3D
REFRESH-INTERVAL:P3D
CALSCALE:GREGORIAN
BEGIN:VEVENT
DTSTART:20170517T233500Z
DTEND:20170518T030000Z
X-MICROSOFT-CDO-ALLDAYEVENT:FALSE
SUMMARY:Quad Cities River Bandits Mocktober Fest
DESCRIPTION:Mocktober Fest is coming to Modern Woodmen Park with Beers around the World Tour sponsored by 7G Distributors. The River Bandits take on the Burlington Bees at 6:35pm. Gates open at 5:35 with the first pint glass giveaway of the season presented by Milan Medical Group. Family Fun All Summer Long at Modern Woodmen Park\, the Friendliest Ballpark in America!
X-ALT-DESC;FMTTYPE=text/html:Mocktober Fest is coming to Modern Woodmen Park with Beers around the World Tour sponsored by 7G Distributors. The River Bandits take on the Burlington Bees at 6:35pm. Gates open at 5:35 with the first pint glass giveaway of the season presented by Milan Medical Group. Family Fun All Summer Long at Modern Woodmen Park\, the Friendliest Ballpark in America!
LOCATION:Modern Woodmen Park 209 South Gaines Street Davenport\, IA 52802
UID:e.2843.5778
SEQUENCE:3
DTSTAMP:20260424T044038Z
URL:https://member.quadcitieschamber.com/events/details/quad-cities-river-bandits-mocktober-fest-5778
END:VEVENT

END:VCALENDAR
