BEGIN:VCALENDAR
VERSION:2.0
PRODID:-//ChamberMaster//Event Calendar 2.0//EN
METHOD:PUBLISH
X-PUBLISHED-TTL:P3D
REFRESH-INTERVAL:P3D
CALSCALE:GREGORIAN
BEGIN:VEVENT
DTSTART:20170613T233500Z
DTEND:20170614T030000Z
X-MICROSOFT-CDO-ALLDAYEVENT:FALSE
SUMMARY:Quad Cities River Bandits Nintendo Giveaway
DESCRIPTION:The Cedar Rapids Kernels make their first appearance of the season at Modern Woodmen Park! First pitch is 6:35pm with gates opening at 5:35pm. Throughout the game\, lucky fans will have chances to win Nintendo prizes throughout the night thanks to Video Game Etc! Scratch Cupcakes will be here! Also\, it?s Dew for Twosday\, along with $2 Busch Lights\, and Military Day as all Military personnel can get $1 Bleacher Seats! Family Fun All Summer Long at Modern Woodmen Park\, the Friendliest Ballpark in America!
X-ALT-DESC;FMTTYPE=text/html:The Cedar Rapids Kernels make their first appearance of the season at Modern Woodmen Park! First pitch is 6:35pm with gates opening at 5:35pm. Throughout the game\, lucky fans will have chances to win Nintendo prizes throughout the night thanks to Video Game Etc! Scratch Cupcakes will be here! Also\, it?s Dew for Twosday\, along with $2 Busch Lights\, and Military Day as all Military personnel can get $1 Bleacher Seats! Family Fun All Summer Long at Modern Woodmen Park\, the Friendliest Ballpark in America!
LOCATION:Modern Woodmen Park 209 South Gaines St. Davenport\, IA 52802
UID:e.2843.6072
SEQUENCE:3
DTSTAMP:20260424T015126Z
URL:https://member.quadcitieschamber.com/events/details/quad-cities-river-bandits-nintendo-giveaway-6072
END:VEVENT

END:VCALENDAR
