BEGIN:VCALENDAR
VERSION:2.0
PRODID:-//ChamberMaster//Event Calendar 2.0//EN
METHOD:PUBLISH
X-PUBLISHED-TTL:P3D
REFRESH-INTERVAL:P3D
CALSCALE:GREGORIAN
BEGIN:VEVENT
DTSTART:20180405T233500Z
DTEND:20180406T030000Z
X-MICROSOFT-CDO-ALLDAYEVENT:FALSE
SUMMARY:Quad Cities River Bandits Opening Day!
DESCRIPTION:Your Midwest League Champion Quad Cities River Bandits take on the Cedar Rapids Kernels at 6:35 p.m. on April 5\, 2018. Visit RiverBandits.com/Tickets to get your tickets sent straight to your phone.
X-ALT-DESC;FMTTYPE=text/html:Your Midwest League Champion Quad Cities River Bandits take on the Cedar Rapids Kernels at 6:35 p.m. on April 5\, 2018. Visit RiverBandits.com/Tickets to get your tickets sent straight to your phone.
LOCATION:Modern Woodmen Park 209 S. Gaines St. Davenport IA\, 52802
UID:e.2843.12123
SEQUENCE:3
DTSTAMP:20260423T123104Z
URL:https://member.quadcitieschamber.com/events/details/quad-cities-river-bandits-opening-day-04-05-2018-12123
END:VEVENT

END:VCALENDAR
