BEGIN:VCALENDAR
VERSION:2.0
PRODID:-//ChamberMaster//Event Calendar 2.0//EN
METHOD:PUBLISH
X-PUBLISHED-TTL:P3D
REFRESH-INTERVAL:P3D
CALSCALE:GREGORIAN
BEGIN:VEVENT
DTSTART:20130314T160000Z
DTEND:20130314T163000Z
X-MICROSOFT-CDO-ALLDAYEVENT:FALSE
SUMMARY:Quad Cities River Bandits Ribbon Cutting
DESCRIPTION:Please help the Quad Cities River Bandits celebrate the addition of a new business meeting space on Thursday\, March 14th at 11:00am. Location:\nFirst floor of Modern Woodmen Park adjacent to the front lobby Rental Fees:$40/hour any day (includes two hours of set up free of charge)\, $25/hour Meet & Suite Package (must book luxury suite for home River Bandits Game) Specifications: -Has built-in SMART Board with microphone and speakers-Recently repainted-Newly carpeted Capacity:Classroom style – 38\; U-Shaped – 26\; Conference table – 28\; U-shaped with Classroom style – 42\; Banquet Style – 48 For more information and details about the upcoming season kicking off April 11th\, please visit www.riverbandits.com.
X-ALT-DESC;FMTTYPE=text/html:<P style="MARGIN: 0in 0in 0pt" class=MsoNormal><FONT face=Calibri>Please help the Quad Cities River Bandits celebrate the addition of a new business meeting space on Thursday\, March 14<SUP>th</SUP> at 11:00am.</FONT></P><P style="MARGIN: 0in 0in 0pt" class=MsoNormal><FONT face=Calibri></FONT>&nbsp\;</P><P style="MARGIN: 0in 0in 0pt" class=MsoNormal><FONT face=Calibri><B style="mso-bidi-font-weight: normal">Location:<BR></B>First floor of Modern Woodmen Park adjacent to the front lobby<B style="mso-bidi-font-weight: normal"><?xml:namespace prefix = o ns = "urn:schemas-microsoft-com:office:office" /><o:p></o:p></B></FONT></P><P style="MARGIN: 0in 0in 0pt" class=MsoNormal><B style="mso-bidi-font-weight: normal"><o:p><FONT face=Calibri>&nbsp\;</FONT></o:p></B></P><P style="MARGIN: 0in 0in 0pt" class=MsoNormal><B style="mso-bidi-font-weight: normal"><FONT face=Calibri>Rental Fees:<o:p></o:p></FONT></B></P><P style="MARGIN: 0in 0in 0pt" class=MsoNormal><FONT face=Calibri>$40/hour any day (includes two hours of set up free of charge)\, $25/hour Meet &amp\; Suite Package (must book luxury suite for home River Bandits Game)<o:p></o:p></FONT></P><P style="MARGIN: 0in 0in 0pt" class=MsoNormal><B style="mso-bidi-font-weight: normal"><o:p><FONT face=Calibri>&nbsp\;</FONT></o:p></B></P><P style="MARGIN: 0in 0in 0pt" class=MsoNormal><B style="mso-bidi-font-weight: normal"><FONT face=Calibri>Specifications: <o:p></o:p></FONT></B></P><P style="MARGIN: 0in 0in 0pt" class=MsoNormal><FONT face=Calibri>-Has built-in SMART Board with microphone and speakers<o:p></o:p></FONT></P><P style="MARGIN: 0in 0in 0pt" class=MsoNormal><FONT face=Calibri>-Recently repainted<o:p></o:p></FONT></P><P style="MARGIN: 0in 0in 0pt" class=MsoNormal><FONT face=Calibri>-Newly carpeted<o:p></o:p></FONT></P><P style="MARGIN: 0in 0in 0pt" class=MsoNormal><B style="mso-bidi-font-weight: normal"><o:p><FONT face=Calibri>&nbsp\;</FONT></o:p></B></P><P style="MARGIN: 0in 0in 0pt" class=MsoNormal><B style="mso-bidi-font-weight: normal"><FONT face=Calibri>Capacity:<o:p></o:p></FONT></B></P><P style="MARGIN: 0in 0in 0pt" class=MsoNormal><FONT face=Calibri>Classroom style – 38\; U-Shaped – 26\; Conference table – 28\; U-shaped with Classroom style – 42\; Banquet Style – 48<o:p></o:p></FONT></P><P style="MARGIN: 0in 0in 0pt" class=MsoNormal><o:p><FONT face=Calibri>&nbsp\;</FONT></o:p></P><P style="MARGIN: 0in 0in 0pt" class=MsoNormal><FONT face=Calibri>For more information and details about the upcoming season kicking off April 11<SUP>th</SUP>\, please visit </FONT><A href="http://www.riverbandits.com">www.riverbandits.com</A><FONT face=Calibri>.<o:p></o:p></FONT></P><DIV style="FONT-FAMILY: Arial">&nbsp\;</DIV>
LOCATION:Quad Cities River Bandits209 S. Gaines Davenport\, IA 52802
UID:e.2843.534
SEQUENCE:3
DTSTAMP:20260421T091423Z
URL:https://member.quadcitieschamber.com/events/details/quad-cities-river-bandits-ribbon-cutting-03-14-2013-534
END:VEVENT

END:VCALENDAR
