BEGIN:VCALENDAR
VERSION:2.0
PRODID:-//ChamberMaster//Event Calendar 2.0//EN
METHOD:PUBLISH
X-PUBLISHED-TTL:P3D
REFRESH-INTERVAL:P3D
CALSCALE:GREGORIAN
BEGIN:VEVENT
DTSTART:20170507T181500Z
DTEND:20170507T220000Z
X-MICROSOFT-CDO-ALLDAYEVENT:FALSE
SUMMARY:Quad Cities River Bandits Superhero Day
DESCRIPTION:t's superhero day at the ballpark! Come dressed as your favorite superhero as the River Bandits finish the weekend series against the Lane County Captains at 1:15pm with gates opening at 12:15pm. It's United Healthcare Family Sunday. Get pre-game autographs\,participate in the post-game Kids Run the Bases sponsored by Prairie Farms. Also\, don't forget to bring your most beloved pooches every Sunday for Bark in the Park courtesy of B-100. Family Fun All Summer Long at Modern Woodmen Park\, the Friendliest Ballpark in America!
X-ALT-DESC;FMTTYPE=text/html:t&rsquo\;s superhero day at the ballpark! Come dressed as your favorite superhero as the River Bandits finish the weekend series against the Lane County Captains at 1:15pm with gates opening at 12:15pm. It&rsquo\;s United Healthcare Family Sunday. Get pre-game autographs\,participate in the post-game Kids Run the Bases sponsored by Prairie Farms. Also\, don&rsquo\;t forget to bring your most beloved pooches every Sunday for Bark in the Park courtesy of B-100. Family Fun All Summer Long at Modern Woodmen Park\, the Friendliest Ballpark in America!
LOCATION:Modern Woodmen Park 209 South Gaines Street Davenport\, IA 52802
UID:e.2843.5774
SEQUENCE:3
DTSTAMP:20260424T043838Z
URL:https://member.quadcitieschamber.com/events/details/quad-cities-river-bandits-superhero-day-5774
END:VEVENT

END:VCALENDAR
