BEGIN:VCALENDAR
VERSION:2.0
PRODID:-//ChamberMaster//Event Calendar 2.0//EN
METHOD:PUBLISH
X-PUBLISHED-TTL:P3D
REFRESH-INTERVAL:P3D
CALSCALE:GREGORIAN
BEGIN:VEVENT
DTSTART:20170506T233500Z
DTEND:20170507T030000Z
X-MICROSOFT-CDO-ALLDAYEVENT:FALSE
SUMMARY:Quad Cities River Bandits "W" Flag Giveaway
DESCRIPTION:The River Bandits take on the Lane County Captains on the first SaturYAY of May. Gates open at 5:35pm with a "W" Flag Giveaway courtesy of Ruhl & Ruhl Insurance before first pitch at 6:35pm. Enjoy our pre-game & post-game band North of 40\, and check out our balloon twisting and face painting area. Family Fun All Summer Long at Modern Woodmen Park\, the Friendliest Ballpark in America!
X-ALT-DESC;FMTTYPE=text/html:The River Bandits take on the Lane County Captains on the first SaturYAY of May. Gates open at 5:35pm with a &ldquo\;W&rdquo\; Flag Giveaway courtesy of Ruhl &amp\; Ruhl Insurance before first pitch at 6:35pm. Enjoy our pre-game &amp\; post-game band North of 40\, and check out our balloon twisting and face painting area. Family Fun All Summer Long at Modern Woodmen Park\, the Friendliest Ballpark in America!
LOCATION:Modern Woodmen Park 209 South Gaines Street Davenport\, IA 52802
UID:e.2843.5773
SEQUENCE:3
DTSTAMP:20260424T031728Z
URL:https://member.quadcitieschamber.com/events/details/quad-cities-river-bandits-w-flag-giveaway-5773
END:VEVENT

END:VCALENDAR
