BEGIN:VCALENDAR
VERSION:2.0
PRODID:-//ChamberMaster//Event Calendar 2.0//EN
METHOD:PUBLISH
X-PUBLISHED-TTL:P3D
REFRESH-INTERVAL:P3D
CALSCALE:GREGORIAN
BEGIN:VEVENT
DTSTART:20170426T233500Z
DTEND:20170427T030000Z
X-MICROSOFT-CDO-ALLDAYEVENT:FALSE
SUMMARY:Quad Cities River Bandits Winning Wednesdays
DESCRIPTION:Come watch the River Bandits finish the homestand against the Peoria Chiefs at 6:35pm with gates opening at 5:35pm. Each person in attendance will have a chance to win a Mega Blu-Ray Player as a part of Winning Wednesday! Family Fun All Summer Long at Modern Woodmen Park\, the Friendliest Ballpark in America!
X-ALT-DESC;FMTTYPE=text/html:Come watch the River Bandits finish the homestand against the Peoria Chiefs at 6:35pm with gates opening at 5:35pm. Each person in attendance will have a chance to win a Mega Blu-Ray Player as a part of Winning Wednesday! Family Fun All Summer Long at Modern Woodmen Park\, the Friendliest Ballpark in America!
LOCATION:Modern Woodmen Park 209 Gaines Street Davenport\, IA 52802
UID:e.2843.4770
SEQUENCE:3
DTSTAMP:20260424T061215Z
URL:https://member.quadcitieschamber.com/events/details/quad-cities-river-bandits-winning-wednesdays-4770
END:VEVENT

END:VCALENDAR
