BEGIN:VCALENDAR
VERSION:2.0
PRODID:-//ChamberMaster//Event Calendar 2.0//EN
METHOD:PUBLISH
X-PUBLISHED-TTL:P3D
REFRESH-INTERVAL:P3D
CALSCALE:GREGORIAN
BEGIN:VEVENT
DTSTART:20140522T223000Z
DTEND:20140522T233000Z
X-MICROSOFT-CDO-ALLDAYEVENT:FALSE
SUMMARY:Quad Cities Running Club Ribbon Cutting
DESCRIPTION:The Quad Cities Running Club\, 733 15th Ave. East Moline\, IL 61244\, will host a ribbon cutting ceremony on Thursday\, May 22nd at 5:30pm. The ribbon cutting will celebrate the new location of the Quad Cities Running Club and  the kickoff for the Quad Cities Marathon 2014.  The new location that will house the Quad Cities Running Club has been completely remodeled inside and out.   For more information\, please contact Marcia Lintz\, the Race Director and Registration Chairman for the Quad Cities Running Club.
X-ALT-DESC;FMTTYPE=text/html:<FONT face=Calibri><P style="MARGIN: 0in 0in 0pt" class=MsoNormal></P><P></FONT></P><P style="MARGIN: 0in 0in 0pt" class=MsoNormal><FONT face=Calibri>The Quad Cities Running Club\, 733 15<SUP>th</SUP> Ave. East Moline\, IL 61244\, will host a ribbon cutting ceremony on Thursday\, May 22<SUP>nd</SUP> at 5:30pm.<?xml:namespace prefix = o ns = "urn:schemas-microsoft-com:office:office" /><o:p></o:p></FONT></P><P style="MARGIN: 0in 0in 0pt" class=MsoNormal><o:p><FONT face=Calibri>&nbsp\;</FONT></o:p></P><P style="MARGIN: 0in 0in 0pt" class=MsoNormal><FONT face=Calibri>The ribbon cutting will celebrate the new location of the Quad Cities Running Club and <SPAN style="mso-spacerun: yes">&nbsp\;</SPAN>the kickoff for the Quad Cities Marathon 2014.<SPAN style="mso-spacerun: yes">&nbsp\; </SPAN>The new location that will house the Quad Cities Running Club has been completely remodeled inside and out.<SPAN style="mso-spacerun: yes">&nbsp\; </SPAN><o:p></o:p></FONT></P><P style="MARGIN: 0in 0in 0pt" class=MsoNormal><o:p><FONT face=Calibri>&nbsp\;</FONT></o:p></P><P style="MARGIN: 0in 0in 0pt" class=MsoNormal><FONT face=Calibri>For more information\, please contact Marcia Lintz\, the Race Director and Registration Chairman for the Quad Cities Running Club.<SPAN style="mso-spacerun: yes">&nbsp\; </SPAN></FONT><o:p></o:p></P><P></P>
LOCATION:City of East Moline915 16th Avenue East Moline\, IL 61244
UID:e.2843.799
SEQUENCE:3
DTSTAMP:20260422T093550Z
URL:https://member.quadcitieschamber.com/events/details/quad-cities-running-club-ribbon-cutting-05-22-2014-799
END:VEVENT

END:VCALENDAR
