BEGIN:VCALENDAR
VERSION:2.0
PRODID:-//ChamberMaster//Event Calendar 2.0//EN
METHOD:PUBLISH
X-PUBLISHED-TTL:P3D
REFRESH-INTERVAL:P3D
CALSCALE:GREGORIAN
BEGIN:VEVENT
DTSTART:20120229T133000Z
DTEND:20120229T140000Z
X-MICROSOFT-CDO-ALLDAYEVENT:FALSE
SUMMARY:Quad Cities Symphony Ribbon Cutting
DESCRIPTION:Please help the Quad Cities Symphony celebrate the official lighting of their message center on Wednesday\, February 29th at 7:30am at the corner of 4th Street and Brady Street in downtown Davenport. To learn more about the Symphony\, visit www.qcsymphony.com
X-ALT-DESC;FMTTYPE=text/html:<DIV><FONT face=Calibri><P style="MARGIN: 0in 0in 0pt" class=MsoNormal>Please help the Quad Cities Symphony celebrate the official lighting of their message center on Wednesday\, February 29<SUP>th</SUP> at 7:30am at the corner of 4<SUP>th</SUP> Street and Brady Street in downtown Davenport.</P><P style="MARGIN: 0in 0in 0pt" class=MsoNormal><?xml:namespace prefix = o ns = "urn:schemas-microsoft-com:office:office" /><o:p>&nbsp\;</o:p></P><P style="MARGIN: 0in 0in 0pt" class=MsoNormal>To learn more about the Symphony\, visit <A href="http://www.qcsymphony.com"><FONT face="Times New Roman">www.qcsymphony.com</FONT></A> </P><P style="MARGIN: 0in 0in 0pt" class=MsoNormal>&nbsp\;</P></FONT></DIV>
LOCATION:Quad City Symphony Orchestra Association327 Brady Street Davenport\, IA 52801
UID:e.2843.351
SEQUENCE:3
DTSTAMP:20260422T080435Z
URL:https://member.quadcitieschamber.com/events/details/quad-cities-symphony-ribbon-cutting-02-29-2012-351
END:VEVENT

END:VCALENDAR
