BEGIN:VCALENDAR
VERSION:2.0
PRODID:-//ChamberMaster//Event Calendar 2.0//EN
METHOD:PUBLISH
X-PUBLISHED-TTL:P3D
REFRESH-INTERVAL:P3D
CALSCALE:GREGORIAN
BEGIN:VEVENT
DTSTART:20170212T180000Z
DTEND:20170212T180500Z
X-MICROSOFT-CDO-ALLDAYEVENT:FALSE
SUMMARY:Quad Cities Venture School Applications-Deadline has been EXTENDED!
DESCRIPTION:Quad Cities Venture School   Spring 2017 Schedule\n\n \n\nApplication Deadline:  February 12th              \n\n \n\nTo apply:\n\nhttp://www.iowajpec.org/entrepreneur-support/venture-school/venture-school-program/\n\n \n\nStatewide Kick-Off Reception: Thursday\, February 23\n\nRestaurant TBD\, Iowa City\n\n6:00 p.m.   8:00 p.m.\n\n \n\nStatewide Opening Workshop: Friday\, February 24   \n\nKirkwood Regional Center\, Iowa City\n\n8:00 a.m.   5:00 p.m.\n\n \n\nQuad Cities Cohort Weekly Sessions: \n\nEICC\, Kahl Education Center: 326 W 3rd St\, Davenport\, IA 52801   \n\n5:30 p.m.   8:30 p.m.                \n\nTuesday\, February 28\n\nTuesday\, March 7\n\nTuesday\, March 21\n\nTuesday\, March 28\n\nTuesday\, April 4\n\nTuesday\, April 11\n\n\n\nQuad Cities Cohort Final Pitch Off: Tuesday\, April 18\n\nEICC\, Kahl Education Center: 326 W 3rd St\, Davenport\, IA 52801\n\n5:30 p.m.   8:30 p.m.                \n\n             \n\nVenture School Surge Summit & Statewide Pitch Off: Friday\, April 21                \n\nHawkeye Innovation Expo\, IMU\, Iowa City\, IA \n\n8:00 a.m.   5:00 p.m.
X-ALT-DESC;FMTTYPE=text/html:<span style="font-size:16px\;"><span style="font-family:arial\;"><strong><u>Quad Cities Venture School &ndash\; Spring 2017 Schedule</u></strong><br />\n&nbsp\;<br />\n<span style="color:#FF0000\;"><u><b>Application Deadline:</b>&nbsp\;</u><strong>&nbsp\;February 12th</strong></span>&nbsp\; &nbsp\; &nbsp\; &nbsp\; &nbsp\; &nbsp\; &nbsp\;&nbsp\;<br />\n&nbsp\;<br />\n<strong><u>To apply:</u></strong><br />\n<a href="http://www.iowajpec.org/entrepreneur-support/venture-school/venture-school-program/">http://www.iowajpec.org/entrepreneur-support/venture-school/venture-school-program/</a><br />\n&nbsp\;<br />\n<strong><u>Statewide Kick-Off Reception:</u></strong><strong>&nbsp\;Thursday\, February 23</strong><br />\nRestaurant TBD\, Iowa City<br />\n6:00 p.m. &ndash\; 8:00 p.m.<br />\n&nbsp\;<br />\n<strong><u>Statewide Opening Workshop:&nbsp\;</u></strong><strong>Friday\, February 24</strong> &nbsp\;&nbsp\;<br />\nKirkwood Regional Center\, Iowa City<br />\n8:00 a.m. &ndash\; 5:00 p.m.<br />\n&nbsp\;<br />\n<strong><u>Quad Cities Cohort Weekly Sessions:&nbsp\;</u></strong><br />\nEICC\,&nbsp\;Kahl&nbsp\;Education Center:&nbsp\;326 W 3rd St\, Davenport\, IA 52801&nbsp\;&nbsp\;&nbsp\;<br />\n5:30 p.m. &ndash\; 8:30 p.m. &nbsp\;&nbsp\;&nbsp\;&nbsp\;&nbsp\;&nbsp\;&nbsp\;&nbsp\;&nbsp\;&nbsp\;&nbsp\;&nbsp\;&nbsp\;&nbsp\;&nbsp\;<br />\n<strong>Tuesday\, February 28</strong><br />\n<strong>Tuesday\, March 7</strong><br />\n<strong>Tuesday\, March 21</strong><br />\n<strong>Tuesday\, March 28</strong><br />\n<strong>Tuesday\, April 4</strong><br />\n<strong>Tuesday\, April 11</strong><br />\n<br />\n<strong><u>Quad Cities Cohort Final Pitch Off: T</u></strong><strong>uesday\, April 18</strong><br />\nEICC\, Kahl Education Center: 326 W 3rd St\, Davenport\, IA 52801<br />\n5:30 p.m. &ndash\; 8:30 p.m. &nbsp\;&nbsp\;&nbsp\;&nbsp\;&nbsp\;&nbsp\;&nbsp\;&nbsp\;&nbsp\;&nbsp\;&nbsp\;&nbsp\;&nbsp\;&nbsp\;&nbsp\;<br />\n&nbsp\; &nbsp\; &nbsp\; &nbsp\; &nbsp\; &nbsp\; &nbsp\;<br />\n<strong><u>Venture School Surge Summit &amp\; Statewide Pitch Off:&nbsp\;</u></strong><strong>Friday\, April 21</strong>&nbsp\; &nbsp\; &nbsp\; &nbsp\; &nbsp\; &nbsp\; &nbsp\; &nbsp\;&nbsp\;<br />\nHawkeye Innovation Expo\, IMU\, Iowa City\, IA&nbsp\;<br />\n8:00 a.m. &ndash\; 5:00 p.m.&nbsp\;</span></span>
LOCATION:
UID:e.2843.4693
SEQUENCE:3
DTSTAMP:20260424T070725Z
URL:https://member.quadcitieschamber.com/events/details/quad-cities-venture-school-applications-deadline-has-been-extended-4693
END:VEVENT

END:VCALENDAR
