BEGIN:VCALENDAR
VERSION:2.0
PRODID:-//ChamberMaster//Event Calendar 2.0//EN
METHOD:PUBLISH
X-PUBLISHED-TTL:P3D
REFRESH-INTERVAL:P3D
CALSCALE:GREGORIAN
BEGIN:VEVENT
DTSTART:20140322T140000Z
DTEND:20140322T170000Z
X-MICROSOFT-CDO-ALLDAYEVENT:FALSE
SUMMARY:Quad Cities Walk for Epilepsy
DESCRIPTION:Join us for the Quad Cities Walk for Epilepsy and show your support!  Walk as an individual\, with family/friends or on a team for those living with the challenges of epilepsy in the Quad Cities.  Thisfun\, family-friendly walk on the INDOOR track of the PepsiCo Center will include FUN RUN races forkids\, emcee Rick Davis of ComedySportz\, Magician David Casas\, Caricature Artist Leo Kelly\, face painting\, chair massage\, information tables\, raffles\, auction and more!
X-ALT-DESC;FMTTYPE=text/html:Join us for the Quad Cities Walk for Epilepsy and show your support!  Walk as an individual\, with family/friends or on a team for those living with the challenges of epilepsy in the Quad Cities.  Thisfun\, family-friendly walk on the INDOOR track of the PepsiCo Center will include FUN RUN races forkids\, emcee Rick Davis of ComedySportz\, Magician David Casas\, Caricature Artist Leo Kelly\, face painting\, chair massage\, information tables\, raffles\, auction and more!
LOCATION:PepsiCo Recreation Center\, Augustana College1025 30th St. Rock Island\, IL 61201
UID:e.2843.36
SEQUENCE:3
DTSTAMP:20260422T061330Z
URL:https://member.quadcitieschamber.com/events/details/quad-cities-walk-for-epilepsy-03-22-2014-36
END:VEVENT

END:VCALENDAR
