BEGIN:VCALENDAR
VERSION:2.0
PRODID:-//ChamberMaster//Event Calendar 2.0//EN
METHOD:PUBLISH
X-PUBLISHED-TTL:P3D
REFRESH-INTERVAL:P3D
CALSCALE:GREGORIAN
BEGIN:VEVENT
DTSTART:20130429T133000Z
DTEND:20130429T140000Z
X-MICROSOFT-CDO-ALLDAYEVENT:FALSE
SUMMARY:Quad Cities Week Proclamation with Quad Cities' Mayors
DESCRIPTION:Please help celebrate the beginning of Quad Cities Week on Monday\, April 29th at 8:30am. The Mayors will sign the proclamation at Western Illinois University in the Atrium – Located at 3300 River Drive\, Moline). Quad Cities Week is a pilot program being launched by The Network: Young Professionals of the Quad Cities\, the Chamber's young professionals group. The celebration\, coming April 29 - May 3\, 2013 is designed to inspire excitement about the Quad Cities region. It's your chance as a business leader and Quad Citian to tell others why this is a great place to run your business and to live. It's a forum to bring about the things we value in Milan and Davenport\, Eldridge and Rock Island and everywhere in between. Here's how you can get involved April 29-May 3:§  Use the hashtag #QuadCitiesWeek on Twitter and tweet about the Quad Cities  §  Change the cover photo on your Facebook account to the designated Quad Cities Week image. Download the cover photo for businesses here and individuals here.§  Highlight stories of businesses and people making the Quad Cities a better place\, and update your status daily throughout the week on Facebook§  Write a letter to the editor of our local newspapers outlining what you value about being in the Quad Cities   \n\n§  Put a Quad Cities Week yard sign outside of your business\, or if you company has an electronic sign\, highlight Quad Cities Week  Create your own way to celebrate the excitement of Quad Cities Week! What others are saying. . . "We know that the sum of our parts adds up to more than the whole - that our region has the talent\, diversity and amenities typical of a metropolitan city of nearly a half million residents.  By embracing this one community\, we can better tout our resources to the world and work together to make the Quad Cities an even better place to live\, work and play. As part of its support of our unified community\, KJWW has incorporated "Quad Cities" into its official corporate headquarters address.  We are proud to have lived and worked in the Quad Cities for over 50 years\, and we want the world to know it. I invite you to participate in Quad Cities Week and show your pride in our community!" Paul VanDuyne\, president\, KJWW Engineering & Consultants
X-ALT-DESC;FMTTYPE=text/html:<P style="MARGIN: 0in 0in 0pt" class=MsoNormal><FONT face=Calibri>Please help celebrate the beginning of Quad Cities Week on <B style="mso-bidi-font-weight: normal">Monday\, April 29<SUP>th</SUP> at 8:30am</B>. The Mayors will sign the proclamation at Western Illinois University in the Atrium – Located at 3300 River Drive\, Moline).<?xml:namespace prefix = o ns = "urn:schemas-microsoft-com:office:office" /><o:p></o:p></FONT></P><P style="MARGIN: 0in 0in 0pt" class=MsoNormal><o:p><FONT face=Calibri>&nbsp\;</FONT></o:p></P><P style="MARGIN: 0in 0in 0pt\; BACKGROUND: white" class=MsoNormal><FONT face=Calibri><B><SPAN style="COLOR: black\; mso-bidi-font-family: Arial\; mso-ansi-language: EN" lang=EN>Quad Cities Week is</SPAN></B><SPAN style="COLOR: black\; mso-bidi-font-family: Arial\; mso-ansi-language: EN" lang=EN>&nbsp\;a pilot program being launched by The Network: Young Professionals of the Quad Cities\, the Chamber's young professionals group. The celebration\, coming&nbsp\;April 29 - May 3\, 2013 is designed to inspire excitement about the Quad Cities region. It's your chance as a business leader and Quad Citian to tell others why this is a great place to run your business and to live. It's a forum to bring about the things we value in Milan and Davenport\, Eldridge and Rock Island and everywhere in between.<o:p></o:p></SPAN></FONT></P><P style="MARGIN: 0in 0in 0pt\; BACKGROUND: white" class=MsoNormal><SPAN style="COLOR: black\; mso-bidi-font-family: Arial\; mso-ansi-language: EN" lang=EN><o:p><FONT face=Calibri>&nbsp\;</FONT></o:p></SPAN></P><P style="MARGIN: 0in 0in 0pt\; BACKGROUND: white" class=MsoNormal><FONT face=Calibri><B><SPAN style="COLOR: black\; mso-bidi-font-family: Arial\; mso-ansi-language: EN" lang=EN>Here's how you can get involved April 29-May 3:</SPAN></B><SPAN style="COLOR: black\; mso-bidi-font-family: Arial\; mso-ansi-language: EN" lang=EN><o:p></o:p></SPAN></FONT></P><P style="TEXT-INDENT: -0.25in\; MARGIN: 0in 0in 12pt 15pt\; BACKGROUND: white\; mso-margin-top-alt: auto\; mso-line-height-alt: 10.5pt\; mso-list: l0 level1 lfo1\; tab-stops: list .5in" class=MsoNormal><SPAN style="FONT-FAMILY: Wingdings\; FONT-SIZE: 10pt\; mso-fareast-font-family: Wingdings\; mso-bidi-font-family: Wingdings\; mso-bidi-font-size: 11.0pt\; mso-ansi-language: EN" lang=EN><SPAN style="mso-list: Ignore">§<SPAN style="FONT: 7pt 'Times New Roman'">&nbsp\; </SPAN></SPAN></SPAN><SPAN style="mso-bidi-font-family: Arial\; mso-ansi-language: EN" lang=EN><FONT face=Calibri>Use the hashtag #QuadCitiesWeek on Twitter and tweet about the Quad Cities &nbsp\;<o:p></o:p></FONT></SPAN></P><P style="TEXT-INDENT: -0.25in\; MARGIN: 0in 0in 12pt 15pt\; BACKGROUND: white\; mso-margin-top-alt: auto\; mso-line-height-alt: 10.5pt\; mso-list: l0 level1 lfo1\; tab-stops: list .5in" class=MsoNormal><SPAN style="FONT-FAMILY: Wingdings\; FONT-SIZE: 10pt\; mso-fareast-font-family: Wingdings\; mso-bidi-font-family: Wingdings\; mso-bidi-font-size: 11.0pt\; mso-ansi-language: EN" lang=EN><SPAN style="mso-list: Ignore">§<SPAN style="FONT: 7pt 'Times New Roman'">&nbsp\; </SPAN></SPAN></SPAN><SPAN style="mso-bidi-font-family: Arial\; mso-ansi-language: EN" lang=EN><FONT face=Calibri>Change the cover photo on your Facebook account to the designated Quad Cities Week image. Download the cover<SPAN style="COLOR: black"> photo for businesses </SPAN><SPAN style="COLOR: #7c7b7b"><A href="http://www.quadcitieschamber.com/pdflinks?reaction=download&amp\;file_id=847"><B><SPAN style="COLOR: navy">here</SPAN></B></A></SPAN><SPAN style="COLOR: black"> and individuals </SPAN><SPAN style="COLOR: #7c7b7b"><A href="http://www.quadcitieschamber.com/pdflinks?reaction=download&amp\;file_id=846"><B><SPAN style="COLOR: navy">here</SPAN></B></A></SPAN><SPAN style="COLOR: black">.</SPAN><o:p></o:p></FONT></SPAN></P><P style="TEXT-INDENT: -0.25in\; MARGIN: 0in 0in 12pt 15pt\; BACKGROUND: white\; mso-margin-top-alt: auto\; mso-line-height-alt: 10.5pt\; mso-list: l0 level1 lfo1\; tab-stops: list .5in" class=MsoNormal><SPAN style="FONT-FAMILY: Wingdings\; COLOR: black\; FONT-SIZE: 10pt\; mso-fareast-font-family: Wingdings\; mso-bidi-font-family: Wingdings\; mso-bidi-font-size: 11.0pt\; mso-ansi-language: EN" lang=EN><SPAN style="mso-list: Ignore">§<SPAN style="FONT: 7pt 'Times New Roman'">&nbsp\; </SPAN></SPAN></SPAN><SPAN style="COLOR: black\; mso-bidi-font-family: Arial\; mso-ansi-language: EN" lang=EN><FONT face=Calibri>Highlight stories of businesses and people making the Quad Cities a better place\, and update your status daily throughout the week on Facebook<o:p></o:p></FONT></SPAN></P><P style="TEXT-INDENT: -0.25in\; MARGIN: 0in 0in 0pt 15pt\; BACKGROUND: white\; mso-margin-top-alt: auto\; mso-line-height-alt: 10.5pt\; mso-list: l0 level1 lfo1\; tab-stops: list .5in\; mso-margin-bottom-alt: auto" class=MsoNormal><SPAN style="FONT-FAMILY: Wingdings\; COLOR: black\; FONT-SIZE: 10pt\; mso-fareast-font-family: Wingdings\; mso-bidi-font-family: Wingdings\; mso-bidi-font-size: 11.0pt\; mso-ansi-language: EN" lang=EN><SPAN style="mso-list: Ignore">§<SPAN style="FONT: 7pt 'Times New Roman'">&nbsp\; </SPAN></SPAN></SPAN><SPAN style="COLOR: black\; mso-bidi-font-family: Arial\; mso-ansi-language: EN" lang=EN><FONT face=Calibri>Write a letter to the editor of our local newspapers outlining what you value about being in the Quad Cities &nbsp\;&nbsp\;<BR style="mso-special-character: line-break"><BR style="mso-special-character: line-break"><o:p></o:p></FONT></SPAN></P><P style="TEXT-INDENT: -0.25in\; MARGIN: 0in 0in 0pt 15pt\; BACKGROUND: white\; mso-margin-top-alt: auto\; mso-line-height-alt: 10.5pt\; mso-list: l0 level1 lfo1\; tab-stops: list .5in\; mso-margin-bottom-alt: auto" class=MsoNormal><SPAN style="FONT-FAMILY: Wingdings\; COLOR: black\; FONT-SIZE: 10pt\; mso-fareast-font-family: Wingdings\; mso-bidi-font-family: Wingdings\; mso-bidi-font-size: 11.0pt\; mso-ansi-language: EN" lang=EN><SPAN style="mso-list: Ignore">§<SPAN style="FONT: 7pt 'Times New Roman'">&nbsp\; </SPAN></SPAN></SPAN><SPAN style="COLOR: black\; mso-bidi-font-family: Arial\; mso-ansi-language: EN" lang=EN><FONT face=Calibri>Put a Quad Cities Week yard sign outside of your business\, or if you company has an electronic sign\, highlight Quad Cities Week&nbsp\; <o:p></o:p></FONT></SPAN></P><P style="MARGIN: 0in 0in 0pt\; BACKGROUND: white\; mso-margin-top-alt: auto\; mso-line-height-alt: 10.5pt\; mso-margin-bottom-alt: auto" class=MsoNormal><SPAN style="COLOR: black\; mso-bidi-font-family: Arial\; mso-ansi-language: EN" lang=EN><FONT face=Calibri>Create your own way to celebrate the excitement of Quad Cities Week!<o:p></o:p></FONT></SPAN></P><P style="MARGIN: 0in 0in 0pt\; BACKGROUND: white" class=MsoNormal><FONT face=Calibri><B><SPAN style="COLOR: black\; mso-bidi-font-family: Arial\; mso-ansi-language: EN" lang=EN></SPAN></B></FONT>&nbsp\;</P><P style="MARGIN: 0in 0in 0pt\; BACKGROUND: white" class=MsoNormal><FONT face=Calibri><B><SPAN style="COLOR: black\; mso-bidi-font-family: Arial\; mso-ansi-language: EN" lang=EN>What others are saying. . .</SPAN></B><SPAN style="COLOR: black\; mso-bidi-font-family: Arial\; mso-ansi-language: EN" lang=EN><o:p></o:p></SPAN></FONT></P><P style="MARGIN: 0in 0in 0pt\; BACKGROUND: white" class=MsoNormal><SPAN style="COLOR: black\; mso-bidi-font-family: Arial\; mso-ansi-language: EN" lang=EN><FONT face=Calibri>&nbsp\;<o:p></o:p></FONT></SPAN></P><P style="MARGIN: 0in 0in 0pt\; BACKGROUND: white" class=MsoNormal><SPAN style="COLOR: black\; mso-bidi-font-family: Arial\; mso-ansi-language: EN" lang=EN><FONT face=Calibri>"We know that the sum of our parts adds up to more than the whole - that our region has the talent\, diversity and amenities typical of a metropolitan city of nearly a half million residents.&nbsp\; By embracing this one community\, we can better tout our resources to the world and work together to make the Quad Cities an even better place to live\, work and play. As part of its support of our unified community\, KJWW has incorporated "Quad Cities" into its official corporate headquarters address.&nbsp\; We are proud to have lived and worked in the Quad Cities for over 50 years\, and we want the world to know it.<o:p></o:p></FONT></SPAN></P><P style="MARGIN: 0in 0in 0pt\; BACKGROUND: white" class=MsoNormal><SPAN style="COLOR: black\; mso-bidi-font-family: Arial\; mso-ansi-language: EN" lang=EN><FONT face=Calibri>&nbsp\;<o:p></o:p></FONT></SPAN></P><P style="MARGIN: 0in 0in 0pt\; BACKGROUND: white" class=MsoNormal><SPAN style="COLOR: black\; mso-bidi-font-family: Arial\; mso-ansi-language: EN" lang=EN><FONT face=Calibri>I invite you to participate in Quad Cities Week and show your pride in our community!"<o:p></o:p></FONT></SPAN></P><P style="MARGIN: 0in 0in 0pt\; BACKGROUND: white" class=MsoNormal><SPAN style="COLOR: black\; mso-bidi-font-family: Arial\; mso-ansi-language: EN" lang=EN><FONT face=Calibri>&nbsp\;<o:p></o:p></FONT></SPAN></P><P style="MARGIN: 0in 0in 0pt\; BACKGROUND: white" class=MsoNormal><FONT face=Calibri><B><I><SPAN style="COLOR: black\; mso-bidi-font-family: Arial\; mso-ansi-language: EN" lang=EN>Paul VanDuyne\, president\, KJWW Engineering &amp\; Consultants</SPAN></I></B></FONT></P><DIV style="FONT-FAMILY: Arial">&nbsp\;</DIV>
LOCATION:Western Illinois University Quad Cities3300 River Drive Moline\, IL 61265
UID:e.2843.568
SEQUENCE:3
DTSTAMP:20260421T104852Z
URL:https://member.quadcitieschamber.com/events/details/quad-cities-week-proclamation-with-quad-cities-mayors-04-29-2013-568
END:VEVENT

END:VCALENDAR
