BEGIN:VCALENDAR
VERSION:2.0
PRODID:-//ChamberMaster//Event Calendar 2.0//EN
METHOD:PUBLISH
X-PUBLISHED-TTL:P3D
REFRESH-INTERVAL:P3D
CALSCALE:GREGORIAN
BEGIN:VEVENT
DTSTART:20210929T123000Z
DTEND:20210929T160000Z
X-MICROSOFT-CDO-ALLDAYEVENT:FALSE
SUMMARY:Quad Cities Women Connect Workshop: Energize Your Work & Life
DESCRIPTION:You have seven key energy centers that drive your impact and influence at work and at home: Motivation\, Creativity\, Confidence\, Relationships\, Communication\, Strategy\, and Vision. When you charge up each area so they work together when you need them most\, you will make better decisions\, manage your time more effectively\, have more impact on your colleagues\, and feel more confident in sharing your ideas with the world. Don't miss this opportunity to create and implement your personalized plan to keep your Energy Grid charged up\, power up your goals\, and keep on rising even when work and life are stressful or overloaded. ??????? Some of the things you will do: 1. Evaluate your Energy Grid to pinpoint where you have opportunities to charge up and/or reset. 2. Learn ways to keep your seven energy centers powered up so you show up as your best. 3. Discuss how you can use what you learn with your team so everyone stays charged up!
X-ALT-DESC;FMTTYPE=text/html:You have seven key energy centers that drive your impact and influence at work and at home: Motivation\, Creativity\, Confidence\, Relationships\, Communication\, Strategy\, and Vision. When you charge up each area so they work together when you need them most\, you will make better decisions\, manage your time more effectively\, have more impact on your colleagues\, and feel more confident in sharing your ideas with the world. Don&#39\;t miss this opportunity to create and implement your personalized plan to keep your Energy Grid charged up\, power up your goals\, and keep on rising even when work and life are stressful or overloaded. ??????? Some of the things you will do: 1. Evaluate your Energy Grid to pinpoint where you have opportunities to charge up and/or reset. 2. Learn ways to keep your seven energy centers powered up so you show up as your best. 3. Discuss how you can use what you learn with your team so everyone stays charged up!
LOCATION:Isle Casino Hotel Bettendorf 1777 Isle Parkway Bettendorf\, IA 52722
UID:e.2843.19052
SEQUENCE:3
DTSTAMP:20260421T183723Z
URL:https://member.quadcitieschamber.com/events/details/quad-cities-women-connect-workshop-energize-your-work-life-19052
END:VEVENT

END:VCALENDAR
