BEGIN:VCALENDAR
VERSION:2.0
PRODID:-//ChamberMaster//Event Calendar 2.0//EN
METHOD:PUBLISH
X-PUBLISHED-TTL:P3D
REFRESH-INTERVAL:P3D
CALSCALE:GREGORIAN
BEGIN:VEVENT
DTSTART:20200715T163000Z
DTEND:20200715T180000Z
X-MICROSOFT-CDO-ALLDAYEVENT:FALSE
SUMMARY:Virtual - Quad Cities Young Professionals Lunch & Learn
DESCRIPTION:Designed for young professional seeking opportunities to connect with peers in the local QC community. Learn fundamental skills like networking\, managing up and professional goal setting. \n\n \nJoin us in July with Amber Dopler\, St. Ambrose Counseling Center. Amber will be discussing the effects of technology on our brains. Interactive discussion will include practical tools to reduce stress and improve mental health.\n\n\n\nLunch is included.
X-ALT-DESC;FMTTYPE=text/html:<div><span style="font-size:14px"><span style="font-family:arial\,helvetica\,sans-serif">Designed for young professional seeking opportunities to connect with peers in the local QC community. Learn fundamental skills like networking\, managing up and professional goal setting.&nbsp\;</span></span><br />\n&nbsp\;\n<address><span style="color:rgb(29\, 33\, 41)\; font-family:helvetica\,arial\,sans-serif\; font-size:14px">Join us in July with Amber Dopler\, St. Ambrose Counseling Center. Amber will be discussing the effects of technology on our brains. Interactive discussion will include practical tools to reduce stress and improve mental health.</span><br />\n<br />\n<span style="font-size:14px"><span style="font-family:arial\,helvetica\,sans-serif">Lunch is included.</span></span></address>\n\n<address>&nbsp\;</address>\n</div>\n\n<address>&nbsp\;</address>\n
LOCATION:Virtual - Zoom link shared prior to the event. St. Ambrose University - Professional Development Center North Davenport Education Center 1950 E. 54th Street Davenport\, IA 52807
UID:e.2843.17150
SEQUENCE:3
DTSTAMP:20260421T154504Z
URL:https://member.quadcitieschamber.com/events/details/quad-cities-young-professionals-lunch-learn-07-15-2020-17150
END:VEVENT

END:VCALENDAR
