BEGIN:VCALENDAR
VERSION:2.0
PRODID:-//ChamberMaster//Event Calendar 2.0//EN
METHOD:PUBLISH
X-PUBLISHED-TTL:P3D
REFRESH-INTERVAL:P3D
CALSCALE:GREGORIAN
BEGIN:VEVENT
DTSTART:20210921T170000Z
DTEND:20210921T180000Z
X-MICROSOFT-CDO-ALLDAYEVENT:FALSE
SUMMARY:Quad Cities Young Professionals Lunch & Learn
DESCRIPTION:Join us on Tuesday\, September 21\, 2021 from 12-1pm for our next Lunch and Learn! During this session\, Heather Schwenneker will be discussing how to effectively coach your employees to become more strategic problem solbers. All registered and attending participants will also receive a digital gift card for lunch at a local Quad Cities restaurant. Event will be virtual.
X-ALT-DESC;FMTTYPE=text/html:Join us on Tuesday\, September 21\, 2021 from 12-1pm for our next Lunch and Learn! During this session\, Heather Schwenneker will be discussing how to effectively coach your employees to become more strategic problem solbers. All registered and attending participants will also receive a digital gift card for lunch at a local Quad Cities restaurant. Event will be virtual.&nbsp\;
LOCATION:Virtual (link will be provided upon registration)
UID:e.2843.19149
SEQUENCE:3
DTSTAMP:20260421T183723Z
URL:https://member.quadcitieschamber.com/events/details/quad-cities-young-professionals-lunch-learn-09-21-2021-19149
END:VEVENT

END:VCALENDAR
