BEGIN:VCALENDAR
VERSION:2.0
PRODID:-//ChamberMaster//Event Calendar 2.0//EN
METHOD:PUBLISH
X-PUBLISHED-TTL:P3D
REFRESH-INTERVAL:P3D
CALSCALE:GREGORIAN
BEGIN:VEVENT
DTSTART:20121116T203000Z
DTEND:20121116T210000Z
X-MICROSOFT-CDO-ALLDAYEVENT:FALSE
SUMMARY:Quad City Area REALTOR Association 100th Anniversary & Ribbon Cutting
DESCRIPTION:Please help the Quad City Area REALTOR Association celebrate their 100th Anniversary with a ribbon cutting on Friday\, November 16th at 2:30pm.  Located at 1900 State Street\, Suite 1\, Bettendorf – across from the Waterfront Convention Center. For more information\, please visit www.qcarealtors.com
X-ALT-DESC;FMTTYPE=text/html:<P style="MARGIN: 0in 0in 0pt" class=MsoNormal><FONT face=Calibri>Please help the Quad City Area REALTOR Association celebrate their 100<SUP>th</SUP> Anniversary with a ribbon cutting on Friday\, November 16<SUP>th</SUP> at 2:30pm.<SPAN style="mso-spacerun: yes">&nbsp\; </SPAN>Located at 1900 State Street\, Suite 1\, Bettendorf – across from the Waterfront Convention Center.</FONT></P><P style="MARGIN: 0in 0in 0pt" class=MsoNormal><?xml:namespace prefix = o ns = "urn:schemas-microsoft-com:office:office" /><o:p><FONT face=Calibri>&nbsp\;</FONT></o:p></P><P style="MARGIN: 0in 0in 0pt" class=MsoNormal><FONT face=Calibri>For more information\, please visit </FONT><A href="http://www.qcarealtors.com">www.qcarealtors.com</A></P><DIV style="FONT-FAMILY: Arial">&nbsp\;</DIV>
LOCATION:Quad City Area REALTOR Association1900 State St.\, Ste 1 Bettendorf\, IA 52722
UID:e.2843.469
SEQUENCE:3
DTSTAMP:20260421T170645Z
URL:https://member.quadcitieschamber.com/events/details/quad-city-area-realtor-association-100th-anniversary-ribbon-cutting-11-16-2012-469
END:VEVENT

END:VCALENDAR
