BEGIN:VCALENDAR
VERSION:2.0
PRODID:-//ChamberMaster//Event Calendar 2.0//EN
METHOD:PUBLISH
X-PUBLISHED-TTL:P3D
REFRESH-INTERVAL:P3D
CALSCALE:GREGORIAN
BEGIN:VEVENT
DTSTART:20120713T140000Z
DTEND:20120713T143000Z
X-MICROSOFT-CDO-ALLDAYEVENT:FALSE
SUMMARY:Quad City Arts Ribbon Cutting
DESCRIPTION:Please help the Quad City Arts celebrate the unveiling of a newly completed mural in Downtown Davenport with a ribbon cutting on Friday\, July 13th at 9am.  Located at 314 3rd Street\, between Pershing and Iowa Streets. For more information about Quad City Arts\, please visit www.quadcityarts.com
X-ALT-DESC;FMTTYPE=text/html:<DIV><P style="MARGIN: 0in 0in 0pt" class=MsoNormal><FONT face=Calibri>Please help the Quad City Arts celebrate the unveiling of a newly completed mural in Downtown Davenport with a ribbon cutting on Friday\, July 13<SUP>th</SUP> at 9am.<SPAN style="mso-spacerun: yes">&nbsp\; </SPAN>Located at 314 3<SUP>rd</SUP> Street\, between Pershing and Iowa Streets.</FONT></P><P style="MARGIN: 0in 0in 0pt" class=MsoNormal><?xml:namespace prefix = o ns = "urn:schemas-microsoft-com:office:office" /><o:p><FONT face=Calibri>&nbsp\;</FONT></o:p></P><P style="MARGIN: 0in 0in 0pt" class=MsoNormal><FONT face=Calibri>For more information about Quad City Arts\, please visit </FONT><A href="http://www.quadcityarts.com"><FONT face="Times New Roman">www.quadcityarts.com</FONT></A><FONT face=Calibri> </FONT></P></DIV>
LOCATION:Quad City Arts\, Inc.1715 2nd Avenue Rock Island\, IL 61201
UID:e.2843.404
SEQUENCE:3
DTSTAMP:20260421T220702Z
URL:https://member.quadcitieschamber.com/events/details/quad-city-arts-ribbon-cutting-07-13-2012-404
END:VEVENT

END:VCALENDAR
