BEGIN:VCALENDAR
VERSION:2.0
PRODID:-//ChamberMaster//Event Calendar 2.0//EN
METHOD:PUBLISH
X-PUBLISHED-TTL:P3D
REFRESH-INTERVAL:P3D
CALSCALE:GREGORIAN
BEGIN:VEVENT
DTSTART:20130403T153000Z
DTEND:20130403T160000Z
X-MICROSOFT-CDO-ALLDAYEVENT:FALSE
SUMMARY:Quad City Arts Ribbon Cutting & Press Conference
DESCRIPTION:Please join The Quad City Arts for a press conference and ribbon cutting Wednesday\, April 3rd\, 2013 at 10:30am at the i wireless Center (1201 River Drive\, Moline) when they will formally announce hosting One State Together in the Arts being held June 24 & 25 in the Quad Cities.   The strength of our local arts and culture sector are being recognized by Illinois Arts Council and Illinois Arts Alliance with the decision to have Quad Cities host this biennial conference. 275-300 attendees are expected at the first one to be held in our region and considered a bi-state conference. For more information about the event\, please visit http://onestateillinois.com/one-state-is-coming-to-the-quad-cities/.
X-ALT-DESC;FMTTYPE=text/html:<P style="MARGIN: 0in 0in 0pt" class=MsoNormal><FONT face=Calibri>Please join The Quad City Arts for a press conference and ribbon cutting <B style="mso-bidi-font-weight: normal">Wednesday\, April 3rd\, 2013 at 10:30am </B>at the i<B style="mso-bidi-font-weight: normal"> </B>wireless Center (1201 River Drive\, Moline) when they will formally announce hosting One State Together in the Arts being held June 24 &amp\; 25 in the Quad Cities.&nbsp\; </FONT></P><P style="MARGIN: 0in 0in 0pt" class=MsoNormal><?xml:namespace prefix = o ns = "urn:schemas-microsoft-com:office:office" /><o:p><FONT face=Calibri>&nbsp\;</FONT></o:p></P><P style="MARGIN: 0in 0in 0pt" class=MsoNormal><FONT face=Calibri>The strength of our local arts and culture sector are being recognized by Illinois Arts Council and Illinois Arts Alliance with the decision to have Quad Cities host this biennial conference. 275-300 attendees are expected at the first one to be held in our region and considered a bi-state conference.</FONT></P><P style="MARGIN: 0in 0in 0pt" class=MsoNormal><o:p><FONT face=Calibri>&nbsp\;</FONT></o:p></P><P style="MARGIN: 0in 0in 0pt" class=MsoNormal><FONT face=Calibri>For more information about the event\, please visit </FONT><A href="http://onestateillinois.com/one-state-is-coming-to-the-quad-cities/">http://onestateillinois.com/one-state-is-coming-to-the-quad-cities/</A><FONT face=Calibri>.</FONT></P><DIV style="FONT-FAMILY: Arial">&nbsp\;</DIV>
LOCATION:i wireless Center1201 River Drive Moline\, IL 612651303
UID:e.2843.552
SEQUENCE:3
DTSTAMP:20260421T110421Z
URL:https://member.quadcitieschamber.com/events/details/quad-city-arts-ribbon-cutting-press-conference-04-03-2013-552
END:VEVENT

END:VCALENDAR
