BEGIN:VCALENDAR
VERSION:2.0
PRODID:-//ChamberMaster//Event Calendar 2.0//EN
METHOD:PUBLISH
X-PUBLISHED-TTL:P3D
REFRESH-INTERVAL:P3D
CALSCALE:GREGORIAN
BEGIN:VEVENT
DTSTART:20120908T160000Z
DTEND:20120908T220000Z
X-MICROSOFT-CDO-ALLDAYEVENT:FALSE
SUMMARY:Quad City Bags Classic
DESCRIPTION:2nd Annual Quad City Bags Classic benffitting Big Brothers Big Sisters and Boys and Girls Club willbe held on Saturday\, September 8th in the outfield of Modern Woodmen Park\, Davenport.  The tournament includes pool play and double elimination\, with up to $1\,000 in prize money.  Iowa-Iowa State Football game shown on the stadium Jumbotron.  Entry fee is $40 per two person team.  Registrations recieved by September 4th will be eligible for a drawing for a custom bag set.  Visit www.bbbs-mv.org for more information or call (563) 323-8006.
X-ALT-DESC;FMTTYPE=text/html:2nd Annual Quad City Bags Classic benffitting Big Brothers Big Sisters and Boys and Girls Club willbe held on Saturday\, September 8th in the outfield of Modern Woodmen Park\, Davenport.  The tournament includes pool play and double elimination\, with up to $1\,000 in prize money.  Iowa-Iowa State Football game shown on the stadium Jumbotron.  Entry fee is $40 per two person team.  Registrations recieved by September 4th will be eligible for a drawing for a custom bag set.  Visit www.bbbs-mv.org for more information or call (563) 323-8006.
LOCATION:
UID:e.2843.96
SEQUENCE:3
DTSTAMP:20260421T183723Z
URL:https://member.quadcitieschamber.com/events/details/quad-city-bags-classic-09-08-2012-96
END:VEVENT

END:VCALENDAR
