BEGIN:VCALENDAR
VERSION:2.0
PRODID:-//ChamberMaster//Event Calendar 2.0//EN
METHOD:PUBLISH
X-PUBLISHED-TTL:P3D
REFRESH-INTERVAL:P3D
CALSCALE:GREGORIAN
BEGIN:VEVENT
DTSTART:20190817T170000Z
DTEND:20190818T040000Z
X-MICROSOFT-CDO-ALLDAYEVENT:FALSE
SUMMARY:Quad City Bank & Trust Riverfront Pops: The Music of Queen
DESCRIPTION:NOW AT THE ROCK ISLAND ARSENAL\n\n\n\nGrab your friends and join the QCSO for the Party of the Summer! We will rock you with this killer Queen set-list of the band's greatest hits\, including "Under Pressure"\, "A Crazy Little Thing Called Love"\, "Bohemian Rhapsody"\, and more.  The evening closes with our traditional\, rousing renditions of Tchaikovsky's 1812 Overture and Sousa's Stars and Stripes Forever set to a brilliant fireworks display!
X-ALT-DESC;FMTTYPE=text/html:<strong>NOW AT THE ROCK ISLAND ARSENAL</strong><br />\n<br />\n<span style="background-color:rgb(255\, 255\, 255)\; font-family:open sans\,helvetica\,arial\,lucida\,sans-serif\; font-size:16px">Grab your friends and join the QCSO for the Party of the Summer! We will rock you with this killer Queen set-list of the band&rsquo\;s greatest hits\, including &ldquo\;Under Pressure&rdquo\;\, &ldquo\;A Crazy Little Thing Called Love&rdquo\;\, &ldquo\;Bohemian Rhapsody&rdquo\;\, and more.&nbsp\; The evening closes with our traditional\, rousing renditions of Tchaikovsky&rsquo\;s&nbsp\;</span><em>1812 Overture</em><span style="background-color:rgb(255\, 255\, 255)\; font-family:open sans\,helvetica\,arial\,lucida\,sans-serif\; font-size:16px">&nbsp\;and Sousa&rsquo\;s&nbsp\;</span><em>Stars and Stripes Forever</em><span style="background-color:rgb(255\, 255\, 255)\; font-family:open sans\,helvetica\,arial\,lucida\,sans-serif\; font-size:16px">&nbsp\;set to a brilliant fireworks display!</span>
LOCATION:Rock Island Arsenal Rock Island\, IL
UID:e.2843.15521
SEQUENCE:3
DTSTAMP:20260422T101138Z
URL:https://member.quadcitieschamber.com/events/details/quad-city-bank-trust-riverfront-pops-the-music-of-queen-15521
END:VEVENT

END:VCALENDAR
