BEGIN:VCALENDAR
VERSION:2.0
PRODID:-//ChamberMaster//Event Calendar 2.0//EN
METHOD:PUBLISH
X-PUBLISHED-TTL:P3D
REFRESH-INTERVAL:P3D
CALSCALE:GREGORIAN
BEGIN:VEVENT
DTSTART:20130510T150000Z
DTEND:20130510T153000Z
X-MICROSOFT-CDO-ALLDAYEVENT:FALSE
SUMMARY:Quad City Botanical Center - Children's Garden Phase I Groundbreaking
DESCRIPTION:Please help Quad City Botanical Center celebrate Phase I of the Children’s Garden Project on Friday\, May 10th at 10:00am – Located at 2525 4th Avenue\, Rock Island.This $1.2 million phase of the project will consist of river basin and delta features\, and an entry plaza\, all to be built west of the existing center\, director Ami Jenkins said today.  The groundbreaking also will kick off the 15th-anniversary celebration of the Quad City Botanical Center at 2525 4th Avenue\, Rock Island.The expansion is designed to provide fun and experiential learning opportunities about plants\, water and river ways. Although appealing to children\, the activities encourage inter-generational play\, so the families and caregivers of the children can also become involved in the activity.For more information\, please visit www.qcgardens.com.
X-ALT-DESC;FMTTYPE=text/html:<P style="MARGIN: 0in 0in 0pt" class=MsoNormal><SPAN style="mso-ascii-font-family: Calibri\; mso-ascii-theme-font: minor-latin\; mso-hansi-font-family: Calibri\; mso-hansi-theme-font: minor-latin"><FONT face=Calibri>Please help Quad City Botanical Center celebrate Phase I of the Children’s Garden Project on <B style="mso-bidi-font-weight: normal">Friday\, May 10<SUP>th</SUP> at 10:00am</B> – Located at 2525 4<SUP>th</SUP> Avenue\, Rock Island.<?xml:namespace prefix = o ns = "urn:schemas-microsoft-com:office:office" /><o:p></o:p></FONT></SPAN></P><P><SPAN style="FONT-FAMILY: 'Calibri'\,'sans-serif'\; FONT-SIZE: 11pt\; mso-ascii-theme-font: minor-latin\; mso-hansi-theme-font: minor-latin">This&nbsp\;$1.2 million phase of the project will consist of river basin and delta features\, and an entry plaza\, all to be built west of the existing center\, director Ami Jenkins said today.<SPAN style="mso-spacerun: yes">&nbsp\; </SPAN>The groundbreaking also will kick off the&nbsp\;15th-anniversary celebration of the Quad City Botanical Center at&nbsp\;2525 4th Avenue\, Rock Island.<o:p></o:p></SPAN></P><P><SPAN style="FONT-FAMILY: 'Calibri'\,'sans-serif'\; FONT-SIZE: 11pt\; mso-ascii-theme-font: minor-latin\; mso-hansi-theme-font: minor-latin">The expansion is&nbsp\;designed to provide fun and experiential learning opportunities about plants\, water and river ways. Although appealing to children\, the&nbsp\;activities encourage inter-generational play\, so the families and caregivers of the children can also become involved in the activity.<o:p></o:p></SPAN></P><P><SPAN style="FONT-FAMILY: 'Calibri'\,'sans-serif'\; FONT-SIZE: 11pt\; mso-ascii-theme-font: minor-latin\; mso-hansi-theme-font: minor-latin">For more information\, please visit <A href="http://www.qcgardens.com">www.qcgardens.com</A>.<o:p></o:p></SPAN></P><DIV style="FONT-FAMILY: Arial">&nbsp\;</DIV>
LOCATION:Quad City Botanical Center2525 4th Avenue Rock Island\, IL 61201
UID:e.2843.582
SEQUENCE:3
DTSTAMP:20260421T121745Z
URL:https://member.quadcitieschamber.com/events/details/quad-city-botanical-center-children-s-garden-phase-i-groundbreaking-05-10-2013-582
END:VEVENT

END:VCALENDAR
