BEGIN:VCALENDAR
VERSION:2.0
PRODID:-//ChamberMaster//Event Calendar 2.0//EN
METHOD:PUBLISH
X-PUBLISHED-TTL:P3D
REFRESH-INTERVAL:P3D
CALSCALE:GREGORIAN
BEGIN:VEVENT
DTSTART:20190323T130000Z
DTEND:20190323T170000Z
X-MICROSOFT-CDO-ALLDAYEVENT:FALSE
SUMMARY:Quad City Family Caregiver Conference 2019
DESCRIPTION:9th Annual\n\nQuad City Family Caregiver Conference\n\nInformation & Assistance for Family Caregivers\n\n_______________________________________________________\n\n\n\n SPEAKERS  EXHIBITORS  INFORMATION\n\n\n\nSPEAKERS INCLUDE:\n\n"Sex and Dementia: Navigating and Preparing for Change"\n\nJoe Sample\, M.P.A.\, M.A.\n\n\n\n"Meeting Alzheimer's: The Healing Power of Yes"\n\nDr. Jade Angelica\, MDiv.\, D.Min.
X-ALT-DESC;FMTTYPE=text/html:<div style="text-align: center\;"><span style="font-family:tahoma"><span style="font-size:14px"><strong><span style="font-size:18px">9th Annual</span><br />\nQuad City Family Caregiver Conference<br />\nInformation &amp\; Assistance for Family Caregivers<br />\n_______________________________________________________<br />\n<br />\n&bull\;SPEAKERS &bull\;EXHIBITORS &bull\;INFORMATION<br />\n<br />\nSPEAKERS INCLUDE:<br />\n<em>&quot\;Sex and Dementia: Navigating and Preparing for Change&quot\;</em><br />\nJoe Sample\, M.P.A.\, M.A.<br />\n<br />\n<em>&quot\;Meeting Alzheimer&#39\;s: The Healing Power of Yes&quot\;</em><br />\nDr. Jade Angelica\, MDiv.\, D.Min.</strong></span></span><br />\n<br />\n&nbsp\;</div>\n
LOCATION:St. Ambrose University - Rogalski Center 2100 N. Ripley Street\, Davenport\, IA (enter from Lombard Street)
UID:e.2843.13751
SEQUENCE:3
DTSTAMP:20260422T182837Z
URL:https://member.quadcitieschamber.com/events/details/quad-city-family-caregiver-conference-2019-13751
END:VEVENT

END:VCALENDAR
