BEGIN:VCALENDAR
VERSION:2.0
PRODID:-//ChamberMaster//Event Calendar 2.0//EN
METHOD:PUBLISH
X-PUBLISHED-TTL:P3D
REFRESH-INTERVAL:P3D
CALSCALE:GREGORIAN
BEGIN:VEVENT
DTSTART:20171029T170000Z
DTEND:20171029T210000Z
X-MICROSOFT-CDO-ALLDAYEVENT:FALSE
SUMMARY:Quad City Fish Swap
DESCRIPTION:***Free Admission!*** 60+ tables of all things aquarium! From beginners to multiple tank owners\, all are welcome. We will have Africa Cichlids\, bettas\, Angel fish\, discus\, guppies\, goldfish and much more. Plus new and used equipment\, tanks and decor!
X-ALT-DESC;FMTTYPE=text/html:***Free Admission!*** 60+ tables of all things aquarium! From beginners to multiple tank owners\, all are welcome. We will have Africa Cichlids\, bettas\, Angel fish\, discus\, guppies\, goldfish and much more. Plus new and used equipment\, tanks and decor!
LOCATION:Golden Leaf Center 2902 E Kimberly Rd - Davenport
UID:e.2843.8542
SEQUENCE:3
DTSTAMP:20260423T210050Z
URL:https://member.quadcitieschamber.com/events/details/quad-city-fish-swap-8542
END:VEVENT

END:VCALENDAR
