BEGIN:VCALENDAR
VERSION:2.0
PRODID:-//ChamberMaster//Event Calendar 2.0//EN
METHOD:PUBLISH
X-PUBLISHED-TTL:P3D
REFRESH-INTERVAL:P3D
CALSCALE:GREGORIAN
BEGIN:VEVENT
DTSTART:20180519T150000Z
DTEND:20180519T200000Z
X-MICROSOFT-CDO-ALLDAYEVENT:FALSE
SUMMARY:Quad City Home Expo
DESCRIPTION:Kitchen\, bath\, windows\, doors\, decks\, prizes and more! If you're thinking about a home project\, this is the perfect event to help you get it started. Admission is free! Register to win the large prizes at the ticketing link.
X-ALT-DESC;FMTTYPE=text/html:<span style="color:rgb(29\, 33\, 41)\; font-family:helvetica\,arial\,sans-serif\; font-size:14px">Kitchen\, bath\, windows\, doors\, decks\, prizes and more! If you&rsquo\;re thinking about a home project\, this is the perfect event to help you get it started. Admission is free! Register to win the large prizes at the ticketing link.</span>
LOCATION:Seiffert Building Supplies 4112 W. Kimberly Road Davenport\, IA 52806
UID:e.2843.13253
SEQUENCE:3
DTSTAMP:20260423T105157Z
URL:https://member.quadcitieschamber.com/events/details/quad-city-home-expo-05-19-2018-13253
END:VEVENT

END:VCALENDAR
