BEGIN:VCALENDAR
VERSION:2.0
PRODID:-//ChamberMaster//Event Calendar 2.0//EN
METHOD:PUBLISH
X-PUBLISHED-TTL:P3D
REFRESH-INTERVAL:P3D
CALSCALE:GREGORIAN
BEGIN:VEVENT
DTSTART:20130820T140000Z
DTEND:20130820T143000Z
X-MICROSOFT-CDO-ALLDAYEVENT:FALSE
SUMMARY:Quad City International Airport Ribbon Cutting
DESCRIPTION:Please join Quad City International Airport in celebrating their expansion on Tuesday\, August 20th at 9:00 a.m.  The Quad City International Airport continues to grow and improve their infrastructure expansion of on-site facilities. The Snow Removal Equipment Building Expansion celebrated today\, showcases the airport authority's ability to house their snow removal equipment in a safe\, efficient manner\, and keep it in top repair for the winter season. The Airfield Maintenance department is proud to have longevity with their employees. Many have been with the department for 15\, 20\, 25+ years. There is a sense of pride with this team (a.k.a. the "Snow Buzzards") for keeping the runways at the QCIA open during winter snow events.  Directions to Location:The Airfield Maintenance Building is located to the left\, off of the airport frontage road at the stoplight intersection of I-74 & Hwy. 6. Once through the intersection\, turn left when you see the sign for Maintenance/Public Safety. You will see a small parking lot straight ahead with a large boulder in the landscaping. Proceed to the east door of the maintenance building where you will be greeted.
X-ALT-DESC;FMTTYPE=text/html:<FONT face=Calibri><P style="MARGIN: 0in 0in 0pt" class=MsoNormal>Please join Quad City International Airport in celebrating their expansion on Tuesday\, <B style="mso-bidi-font-weight: normal">August 20<SUP>th</SUP> at 9:00 a.m.</B> <?xml:namespace prefix = o ns = "urn:schemas-microsoft-com:office:office" /><o:p></o:p></P><P style="MARGIN: 0in 0in 0pt" class=MsoNormal><o:p>&nbsp\;</o:p></P><P style="MARGIN: 0in 0in 0pt" class=MsoNormal>The Quad City International Airport continues to grow and improve their infrastructure expansion of on-site facilities. The Snow Removal Equipment Building Expansion celebrated today\, showcases the airport authority's ability to house their snow removal equipment in a safe\, efficient manner\, and keep it in top repair for the winter season.<o:p></o:p></P><P style="MARGIN: 0in 0in 0pt" class=MsoNormal><o:p>&nbsp\;</o:p></P><P style="MARGIN: 0in 0in 0pt" class=MsoNormal>The Airfield Maintenance department is proud to have longevity with their employees. Many have been with the department for 15\, 20\, 25+ years. There is a sense of pride with this team (a.k.a. the "Snow Buzzards") for keeping the runways at the QCIA open during winter snow events. </P><P style="MARGIN: 0in 0in 0pt" class=MsoNormal><o:p></o:p>&nbsp\;</P><P style="MARGIN: 0in 0in 0pt" class=MsoNormal><B style="mso-bidi-font-weight: normal"><I style="mso-bidi-font-style: normal">Directions to Location:<o:p></o:p></I></B></P><P style="MARGIN: 0in 0in 0pt" class=MsoNormal><I style="mso-bidi-font-style: normal">The Airfield Maintenance Building is located to the left\, off of the airport frontage road at the stoplight intersection of I-74 &amp\; Hwy. 6. Once through the intersection\, turn left when you see the sign for Maintenance/Public Safety. You will see a small parking lot straight ahead with a large boulder in the landscaping. Proceed to the east door of the maintenance building where you will be greeted. <o:p></o:p></I></P><P style="MARGIN: 0in 0in 0pt" class=MsoNormal></FONT>&nbsp\;</P>
LOCATION:Quad City International Airport2200 69th Ave. Moline\, IL 61265
UID:e.2843.647
SEQUENCE:3
DTSTAMP:20260421T171227Z
URL:https://member.quadcitieschamber.com/events/details/quad-city-international-airport-ribbon-cutting-08-20-2013-647
END:VEVENT

END:VCALENDAR
