BEGIN:VCALENDAR
VERSION:2.0
PRODID:-//ChamberMaster//Event Calendar 2.0//EN
METHOD:PUBLISH
X-PUBLISHED-TTL:P3D
REFRESH-INTERVAL:P3D
CALSCALE:GREGORIAN
BEGIN:VEVENT
DTSTART:20140505T193000Z
DTEND:20140505T200000Z
X-MICROSOFT-CDO-ALLDAYEVENT:FALSE
SUMMARY:Quad City Speedway Ribbon Cutting
DESCRIPTION:Quad City Speedway and K+S Promotions\, located at 4200 Archer Dr. East Moline\, IL 61244\, will host a ribbon cutting on Sunday\, May 4th at 2:30pm.   Quad City Speedway provides family fun\, grassroots\, dirt track stock car racing every Sunday night through August in 2014 (weather permitting) on the 1/4 mile at the Rock Island County Fairgrounds. The Speedway recently made an investment back into their track and will be celebrating their 50th year of racing.   Racing this season will be the Eriksen Chevrolet Buick IMCA Late Models\, Toppert Jetting Services IMCA Modifieds\, Weber Auto Group Street Stocks\, 4-Cylinders\, McDonald's Mod Lites\, and U-Pull-A-Part/Cimco Engler IMRA Midget Lites. Admission prices for weekly racing (non-special events) for adults is $10 and pit passes for weekly racing (non-special events) are $25. For more information\, please visit www.qcspeedwayracing.com Mike Coughlin\, Membership Manager\, will be speaking on behalf of the Quad Cities Chamber of Commerce.
X-ALT-DESC;FMTTYPE=text/html:<FONT face=Calibri><SPAN style="FONT-FAMILY: 'Calibri'\,'sans-serif'\; FONT-SIZE: 11pt\; mso-fareast-font-family: 'Times New Roman'\; mso-bidi-font-family: 'Times New Roman'\; mso-ansi-language: EN-US\; mso-fareast-language: EN-US\; mso-bidi-language: AR-SA"><P style="MARGIN: 0in 0in 0pt" class=MsoNormal><P style="MARGIN: 0in 0in 0pt" class=MsoNormal></P></SPAN></FONT><FONT face=Calibri><P style="MARGIN: 0in 0in 0pt" class=MsoNormal>Quad City Speedway and K+S Promotions\, located at 4200 Archer Dr. East Moline\, IL 61244\, will host a ribbon cutting on Sunday\, May 4<SUP>th</SUP> at 2:30pm.<SPAN style="mso-spacerun: yes">&nbsp\; </SPAN><?xml:namespace prefix = o ns = "urn:schemas-microsoft-com:office:office" /><o:p></o:p></P><P style="MARGIN: 0in 0in 0pt" class=MsoNormal><o:p>&nbsp\;</o:p></P><P style="MARGIN: 0in 0in 0pt" class=MsoNormal>Quad City Speedway provides family fun\, grassroots\, dirt track stock car racing every Sunday night through August in 2014 (weather permitting) on the 1/4 mile at the Rock Island County Fairgrounds. The Speedway recently made an investment back into their track and will be celebrating their 50<SUP>th </SUP>year of racing.<SPAN style="mso-spacerun: yes">&nbsp\; </SPAN><o:p></o:p></P><P style="MARGIN: 0in 0in 0pt" class=MsoNormal><o:p>&nbsp\;</o:p></P><P style="MARGIN: 0in 0in 0pt" class=MsoNormal>Racing this season will be the Eriksen Chevrolet Buick IMCA Late Models\, Toppert Jetting Services IMCA Modifieds\, Weber Auto Group Street Stocks\, 4-Cylinders\, McDonald's Mod Lites\, and U-Pull-A-Part/Cimco Engler IMRA Midget Lites. Admission prices for weekly racing (non-special events) for adults is $10 and pit passes for weekly racing (non-special events) are $25.<o:p></o:p></P><P style="MARGIN: 0in 0in 0pt" class=MsoNormal><o:p>&nbsp\;</o:p></P><P style="MARGIN: 0in 0in 0pt" class=MsoNormal>For more information\, please visit <A href="http://www.qcspeedwayracing.com"><FONT color=#0000ff face="Times New Roman">www.qcspeedwayracing.com</FONT></A><o:p></o:p></P><P style="MARGIN: 0in 0in 0pt" class=MsoNormal><o:p>&nbsp\;</o:p></P><P style="MARGIN: 0in 0in 0pt" class=MsoNormal>Mike Coughlin\, Membership Manager\, will be speaking on behalf of the Quad Cities Chamber of Commerce. <o:p></o:p></P><P style="MARGIN: 0in 0in 0pt" class=MsoNormal><P style="MARGIN: 0in 0in 0pt" class=MsoNormal><o:p></o:p>&nbsp\;</P><P></FONT></P></P>
LOCATION:Quad City Speedway - K&S Promotions4200 Archer Dr. East Moline\, IL 61244
UID:e.2843.792
SEQUENCE:3
DTSTAMP:20260422T093531Z
URL:https://member.quadcitieschamber.com/events/details/quad-city-speedway-ribbon-cutting-05-05-2014-792
END:VEVENT

END:VCALENDAR
