BEGIN:VCALENDAR
VERSION:2.0
PRODID:-//ChamberMaster//Event Calendar 2.0//EN
METHOD:PUBLISH
X-PUBLISHED-TTL:P3D
REFRESH-INTERVAL:P3D
CALSCALE:GREGORIAN
BEGIN:VEVENT
DTSTART:20190123T003000Z
DTEND:20190123T033000Z
X-MICROSOFT-CDO-ALLDAYEVENT:FALSE
SUMMARY:Quad City Storm Hockey
DESCRIPTION:Whether you are a die-hard hockey fan or out for some family fun\, the Quad City Storm will entertain you now and for years to come!
X-ALT-DESC;FMTTYPE=text/html:Whether you are a die-hard hockey fan or out for some family fun\, the Quad City Storm will entertain you now and for years to come!
LOCATION:TaxSlayer Center 1201 River Drive\, Moline IL 61265
UID:e.2843.13454
SEQUENCE:3
DTSTAMP:20260422T215728Z
URL:https://member.quadcitieschamber.com/events/details/quad-city-storm-hockey-01-22-2019-13454
END:VEVENT

END:VCALENDAR
